BEGIN:VCALENDAR
VERSION:2.0
PRODID:-//Austin Firefighters Association - ECPv6.15.20//NONSGML v1.0//EN
CALSCALE:GREGORIAN
METHOD:PUBLISH
X-ORIGINAL-URL:https://www.iafflocal975.org
X-WR-CALDESC:Events for Austin Firefighters Association
REFRESH-INTERVAL;VALUE=DURATION:PT1H
X-Robots-Tag:noindex
X-PUBLISHED-TTL:PT1H
BEGIN:VTIMEZONE
TZID:America/Chicago
BEGIN:DAYLIGHT
TZOFFSETFROM:-0600
TZOFFSETTO:-0500
TZNAME:CDT
DTSTART:20250309T080000
END:DAYLIGHT
BEGIN:STANDARD
TZOFFSETFROM:-0500
TZOFFSETTO:-0600
TZNAME:CST
DTSTART:20251102T070000
END:STANDARD
BEGIN:DAYLIGHT
TZOFFSETFROM:-0600
TZOFFSETTO:-0500
TZNAME:CDT
DTSTART:20260308T080000
END:DAYLIGHT
BEGIN:STANDARD
TZOFFSETFROM:-0500
TZOFFSETTO:-0600
TZNAME:CST
DTSTART:20261101T070000
END:STANDARD
BEGIN:DAYLIGHT
TZOFFSETFROM:-0600
TZOFFSETTO:-0500
TZNAME:CDT
DTSTART:20270314T080000
END:DAYLIGHT
BEGIN:STANDARD
TZOFFSETFROM:-0500
TZOFFSETTO:-0600
TZNAME:CST
DTSTART:20271107T070000
END:STANDARD
END:VTIMEZONE
BEGIN:VEVENT
DTSTART;VALUE=DATE:20260801
DTEND;VALUE=DATE:20260802
DTSTAMP:20260420T153307
CREATED:20251215T001405Z
LAST-MODIFIED:20251215T001405Z
UID:10003449-1785542400-1785628799@www.iafflocal975.org
SUMMARY:A Shift
DESCRIPTION:
URL:https://www.iafflocal975.org/event/a-shift/2026-08-01/
CATEGORIES:A Shift
ATTACH;FMTTYPE=image/png:https://www.iafflocal975.org/wp-content/uploads/2021/09/icon-1.png
END:VEVENT
BEGIN:VEVENT
DTSTART;VALUE=DATE:20260804
DTEND;VALUE=DATE:20260805
DTSTAMP:20260420T153307
CREATED:20251215T001405Z
LAST-MODIFIED:20251215T001405Z
UID:10003450-1785801600-1785887999@www.iafflocal975.org
SUMMARY:A Shift
DESCRIPTION:
URL:https://www.iafflocal975.org/event/a-shift/2026-08-04/
CATEGORIES:A Shift
ATTACH;FMTTYPE=image/png:https://www.iafflocal975.org/wp-content/uploads/2021/09/icon-1.png
END:VEVENT
BEGIN:VEVENT
DTSTART;VALUE=DATE:20260807
DTEND;VALUE=DATE:20260808
DTSTAMP:20260420T153307
CREATED:20251215T001405Z
LAST-MODIFIED:20251215T001405Z
UID:10003451-1786060800-1786147199@www.iafflocal975.org
SUMMARY:A Shift
DESCRIPTION:
URL:https://www.iafflocal975.org/event/a-shift/2026-08-07/
CATEGORIES:A Shift
ATTACH;FMTTYPE=image/png:https://www.iafflocal975.org/wp-content/uploads/2021/09/icon-1.png
END:VEVENT
BEGIN:VEVENT
DTSTART;VALUE=DATE:20260810
DTEND;VALUE=DATE:20260811
DTSTAMP:20260420T153307
CREATED:20251215T001405Z
LAST-MODIFIED:20251215T001405Z
UID:10003452-1786320000-1786406399@www.iafflocal975.org
SUMMARY:A Shift
DESCRIPTION:
URL:https://www.iafflocal975.org/event/a-shift/2026-08-10/
CATEGORIES:A Shift
ATTACH;FMTTYPE=image/png:https://www.iafflocal975.org/wp-content/uploads/2021/09/icon-1.png
END:VEVENT
BEGIN:VEVENT
DTSTART;VALUE=DATE:20260813
DTEND;VALUE=DATE:20260814
DTSTAMP:20260420T153307
CREATED:20251215T001405Z
LAST-MODIFIED:20251215T001405Z
UID:10003453-1786579200-1786665599@www.iafflocal975.org
SUMMARY:A Shift
DESCRIPTION:
URL:https://www.iafflocal975.org/event/a-shift/2026-08-13/
CATEGORIES:A Shift
ATTACH;FMTTYPE=image/png:https://www.iafflocal975.org/wp-content/uploads/2021/09/icon-1.png
END:VEVENT
BEGIN:VEVENT
DTSTART;VALUE=DATE:20260816
DTEND;VALUE=DATE:20260817
DTSTAMP:20260420T153307
CREATED:20251215T001405Z
LAST-MODIFIED:20251215T001405Z
UID:10003454-1786838400-1786924799@www.iafflocal975.org
SUMMARY:A Shift
DESCRIPTION:
URL:https://www.iafflocal975.org/event/a-shift/2026-08-16/
CATEGORIES:A Shift
ATTACH;FMTTYPE=image/png:https://www.iafflocal975.org/wp-content/uploads/2021/09/icon-1.png
END:VEVENT
BEGIN:VEVENT
DTSTART;VALUE=DATE:20260819
DTEND;VALUE=DATE:20260820
DTSTAMP:20260420T153307
CREATED:20251215T001405Z
LAST-MODIFIED:20251215T001405Z
UID:10003455-1787097600-1787183999@www.iafflocal975.org
SUMMARY:A Shift
DESCRIPTION:
URL:https://www.iafflocal975.org/event/a-shift/2026-08-19/
CATEGORIES:A Shift
ATTACH;FMTTYPE=image/png:https://www.iafflocal975.org/wp-content/uploads/2021/09/icon-1.png
END:VEVENT
BEGIN:VEVENT
DTSTART;VALUE=DATE:20260822
DTEND;VALUE=DATE:20260823
DTSTAMP:20260420T153307
CREATED:20251215T001405Z
LAST-MODIFIED:20251215T001405Z
UID:10003456-1787356800-1787443199@www.iafflocal975.org
SUMMARY:A Shift
DESCRIPTION:
URL:https://www.iafflocal975.org/event/a-shift/2026-08-22/
CATEGORIES:A Shift
ATTACH;FMTTYPE=image/png:https://www.iafflocal975.org/wp-content/uploads/2021/09/icon-1.png
END:VEVENT
BEGIN:VEVENT
DTSTART;VALUE=DATE:20260825
DTEND;VALUE=DATE:20260826
DTSTAMP:20260420T153307
CREATED:20251215T001405Z
LAST-MODIFIED:20251215T001405Z
UID:10003457-1787616000-1787702399@www.iafflocal975.org
SUMMARY:A Shift
DESCRIPTION:
URL:https://www.iafflocal975.org/event/a-shift/2026-08-25/
CATEGORIES:A Shift
ATTACH;FMTTYPE=image/png:https://www.iafflocal975.org/wp-content/uploads/2021/09/icon-1.png
END:VEVENT
BEGIN:VEVENT
DTSTART;VALUE=DATE:20260828
DTEND;VALUE=DATE:20260829
DTSTAMP:20260420T153307
CREATED:20251215T001405Z
LAST-MODIFIED:20251215T001405Z
UID:10003458-1787875200-1787961599@www.iafflocal975.org
SUMMARY:A Shift
DESCRIPTION:
URL:https://www.iafflocal975.org/event/a-shift/2026-08-28/
CATEGORIES:A Shift
ATTACH;FMTTYPE=image/png:https://www.iafflocal975.org/wp-content/uploads/2021/09/icon-1.png
END:VEVENT
BEGIN:VEVENT
DTSTART;VALUE=DATE:20260831
DTEND;VALUE=DATE:20260901
DTSTAMP:20260420T153307
CREATED:20251215T001405Z
LAST-MODIFIED:20251215T001405Z
UID:10003459-1788134400-1788220799@www.iafflocal975.org
SUMMARY:A Shift
DESCRIPTION:
URL:https://www.iafflocal975.org/event/a-shift/2026-08-31/
CATEGORIES:A Shift
ATTACH;FMTTYPE=image/png:https://www.iafflocal975.org/wp-content/uploads/2021/09/icon-1.png
END:VEVENT
END:VCALENDAR