BEGIN:VCALENDAR
VERSION:2.0
PRODID:-//Austin Firefighters Association - ECPv6.15.20//NONSGML v1.0//EN
CALSCALE:GREGORIAN
METHOD:PUBLISH
X-ORIGINAL-URL:https://www.iafflocal975.org
X-WR-CALDESC:Events for Austin Firefighters Association
REFRESH-INTERVAL;VALUE=DURATION:PT1H
X-Robots-Tag:noindex
X-PUBLISHED-TTL:PT1H
BEGIN:VTIMEZONE
TZID:America/Chicago
BEGIN:DAYLIGHT
TZOFFSETFROM:-0600
TZOFFSETTO:-0500
TZNAME:CDT
DTSTART:20260308T080000
END:DAYLIGHT
BEGIN:STANDARD
TZOFFSETFROM:-0500
TZOFFSETTO:-0600
TZNAME:CST
DTSTART:20261101T070000
END:STANDARD
BEGIN:DAYLIGHT
TZOFFSETFROM:-0600
TZOFFSETTO:-0500
TZNAME:CDT
DTSTART:20270314T080000
END:DAYLIGHT
BEGIN:STANDARD
TZOFFSETFROM:-0500
TZOFFSETTO:-0600
TZNAME:CST
DTSTART:20271107T070000
END:STANDARD
BEGIN:DAYLIGHT
TZOFFSETFROM:-0600
TZOFFSETTO:-0500
TZNAME:CDT
DTSTART:20280312T080000
END:DAYLIGHT
BEGIN:STANDARD
TZOFFSETFROM:-0500
TZOFFSETTO:-0600
TZNAME:CST
DTSTART:20281105T070000
END:STANDARD
END:VTIMEZONE
BEGIN:VEVENT
DTSTART;VALUE=DATE:20270101
DTEND;VALUE=DATE:20270102
DTSTAMP:20260422T204234
CREATED:20251215T001405Z
LAST-MODIFIED:20251215T001405Z
UID:10003500-1798761600-1798847999@www.iafflocal975.org
SUMMARY:A Shift
DESCRIPTION:
URL:https://www.iafflocal975.org/event/a-shift/2027-01-01/
CATEGORIES:A Shift
ATTACH;FMTTYPE=image/png:https://www.iafflocal975.org/wp-content/uploads/2021/09/icon-1.png
END:VEVENT
BEGIN:VEVENT
DTSTART;VALUE=DATE:20270104
DTEND;VALUE=DATE:20270105
DTSTAMP:20260422T204234
CREATED:20251215T001405Z
LAST-MODIFIED:20251215T001405Z
UID:10003501-1799020800-1799107199@www.iafflocal975.org
SUMMARY:A Shift
DESCRIPTION:
URL:https://www.iafflocal975.org/event/a-shift/2027-01-04/
CATEGORIES:A Shift
ATTACH;FMTTYPE=image/png:https://www.iafflocal975.org/wp-content/uploads/2021/09/icon-1.png
END:VEVENT
BEGIN:VEVENT
DTSTART;VALUE=DATE:20270107
DTEND;VALUE=DATE:20270108
DTSTAMP:20260422T204234
CREATED:20251215T001405Z
LAST-MODIFIED:20251215T001405Z
UID:10003502-1799280000-1799366399@www.iafflocal975.org
SUMMARY:A Shift
DESCRIPTION:
URL:https://www.iafflocal975.org/event/a-shift/2027-01-07/
CATEGORIES:A Shift
ATTACH;FMTTYPE=image/png:https://www.iafflocal975.org/wp-content/uploads/2021/09/icon-1.png
END:VEVENT
BEGIN:VEVENT
DTSTART;VALUE=DATE:20270110
DTEND;VALUE=DATE:20270111
DTSTAMP:20260422T204234
CREATED:20251215T001405Z
LAST-MODIFIED:20251215T001405Z
UID:10003503-1799539200-1799625599@www.iafflocal975.org
SUMMARY:A Shift
DESCRIPTION:
URL:https://www.iafflocal975.org/event/a-shift/2027-01-10/
CATEGORIES:A Shift
ATTACH;FMTTYPE=image/png:https://www.iafflocal975.org/wp-content/uploads/2021/09/icon-1.png
END:VEVENT
BEGIN:VEVENT
DTSTART;VALUE=DATE:20270113
DTEND;VALUE=DATE:20270114
DTSTAMP:20260422T204234
CREATED:20251215T001405Z
LAST-MODIFIED:20251215T001405Z
UID:10003504-1799798400-1799884799@www.iafflocal975.org
SUMMARY:A Shift
DESCRIPTION:
URL:https://www.iafflocal975.org/event/a-shift/2027-01-13/
CATEGORIES:A Shift
ATTACH;FMTTYPE=image/png:https://www.iafflocal975.org/wp-content/uploads/2021/09/icon-1.png
END:VEVENT
BEGIN:VEVENT
DTSTART;VALUE=DATE:20270116
DTEND;VALUE=DATE:20270117
DTSTAMP:20260422T204234
CREATED:20251215T001405Z
LAST-MODIFIED:20251215T001405Z
UID:10003505-1800057600-1800143999@www.iafflocal975.org
SUMMARY:A Shift
DESCRIPTION:
URL:https://www.iafflocal975.org/event/a-shift/2027-01-16/
CATEGORIES:A Shift
ATTACH;FMTTYPE=image/png:https://www.iafflocal975.org/wp-content/uploads/2021/09/icon-1.png
END:VEVENT
BEGIN:VEVENT
DTSTART;VALUE=DATE:20270119
DTEND;VALUE=DATE:20270120
DTSTAMP:20260422T204234
CREATED:20251215T001405Z
LAST-MODIFIED:20251215T001405Z
UID:10003506-1800316800-1800403199@www.iafflocal975.org
SUMMARY:A Shift
DESCRIPTION:
URL:https://www.iafflocal975.org/event/a-shift/2027-01-19/
CATEGORIES:A Shift
ATTACH;FMTTYPE=image/png:https://www.iafflocal975.org/wp-content/uploads/2021/09/icon-1.png
END:VEVENT
BEGIN:VEVENT
DTSTART;VALUE=DATE:20270122
DTEND;VALUE=DATE:20270123
DTSTAMP:20260422T204234
CREATED:20251215T001405Z
LAST-MODIFIED:20251215T001405Z
UID:10003507-1800576000-1800662399@www.iafflocal975.org
SUMMARY:A Shift
DESCRIPTION:
URL:https://www.iafflocal975.org/event/a-shift/2027-01-22/
CATEGORIES:A Shift
ATTACH;FMTTYPE=image/png:https://www.iafflocal975.org/wp-content/uploads/2021/09/icon-1.png
END:VEVENT
BEGIN:VEVENT
DTSTART;VALUE=DATE:20270125
DTEND;VALUE=DATE:20270126
DTSTAMP:20260422T204234
CREATED:20251215T001405Z
LAST-MODIFIED:20251215T001405Z
UID:10003508-1800835200-1800921599@www.iafflocal975.org
SUMMARY:A Shift
DESCRIPTION:
URL:https://www.iafflocal975.org/event/a-shift/2027-01-25/
CATEGORIES:A Shift
ATTACH;FMTTYPE=image/png:https://www.iafflocal975.org/wp-content/uploads/2021/09/icon-1.png
END:VEVENT
BEGIN:VEVENT
DTSTART;VALUE=DATE:20270128
DTEND;VALUE=DATE:20270129
DTSTAMP:20260422T204234
CREATED:20251215T001405Z
LAST-MODIFIED:20251215T001405Z
UID:10003509-1801094400-1801180799@www.iafflocal975.org
SUMMARY:A Shift
DESCRIPTION:
URL:https://www.iafflocal975.org/event/a-shift/2027-01-28/
CATEGORIES:A Shift
ATTACH;FMTTYPE=image/png:https://www.iafflocal975.org/wp-content/uploads/2021/09/icon-1.png
END:VEVENT
BEGIN:VEVENT
DTSTART;VALUE=DATE:20270131
DTEND;VALUE=DATE:20270201
DTSTAMP:20260422T204234
CREATED:20251215T001405Z
LAST-MODIFIED:20251215T001405Z
UID:10003510-1801353600-1801439999@www.iafflocal975.org
SUMMARY:A Shift
DESCRIPTION:
URL:https://www.iafflocal975.org/event/a-shift/2027-01-31/
CATEGORIES:A Shift
ATTACH;FMTTYPE=image/png:https://www.iafflocal975.org/wp-content/uploads/2021/09/icon-1.png
END:VEVENT
END:VCALENDAR