BEGIN:VCALENDAR
VERSION:2.0
PRODID:-//Austin Firefighters Association - ECPv6.15.20//NONSGML v1.0//EN
CALSCALE:GREGORIAN
METHOD:PUBLISH
X-WR-CALNAME:Austin Firefighters Association
X-ORIGINAL-URL:https://www.iafflocal975.org
X-WR-CALDESC:Events for Austin Firefighters Association
REFRESH-INTERVAL;VALUE=DURATION:PT1H
X-Robots-Tag:noindex
X-PUBLISHED-TTL:PT1H
BEGIN:VTIMEZONE
TZID:America/Chicago
BEGIN:DAYLIGHT
TZOFFSETFROM:-0600
TZOFFSETTO:-0500
TZNAME:CDT
DTSTART:20260308T080000
END:DAYLIGHT
BEGIN:STANDARD
TZOFFSETFROM:-0500
TZOFFSETTO:-0600
TZNAME:CST
DTSTART:20261101T070000
END:STANDARD
BEGIN:DAYLIGHT
TZOFFSETFROM:-0600
TZOFFSETTO:-0500
TZNAME:CDT
DTSTART:20270314T080000
END:DAYLIGHT
BEGIN:STANDARD
TZOFFSETFROM:-0500
TZOFFSETTO:-0600
TZNAME:CST
DTSTART:20271107T070000
END:STANDARD
BEGIN:DAYLIGHT
TZOFFSETFROM:-0600
TZOFFSETTO:-0500
TZNAME:CDT
DTSTART:20280312T080000
END:DAYLIGHT
BEGIN:STANDARD
TZOFFSETFROM:-0500
TZOFFSETTO:-0600
TZNAME:CST
DTSTART:20281105T070000
END:STANDARD
BEGIN:DAYLIGHT
TZOFFSETFROM:-0600
TZOFFSETTO:-0500
TZNAME:CDT
DTSTART:20290311T080000
END:DAYLIGHT
BEGIN:STANDARD
TZOFFSETFROM:-0500
TZOFFSETTO:-0600
TZNAME:CST
DTSTART:20291104T070000
END:STANDARD
END:VTIMEZONE
BEGIN:VEVENT
DTSTART;VALUE=DATE:20271106
DTEND;VALUE=DATE:20271107
DTSTAMP:20260423T191529
CREATED:20251215T001405Z
LAST-MODIFIED:20251215T001405Z
UID:10003603-1825459200-1825545599@www.iafflocal975.org
SUMMARY:A Shift
DESCRIPTION:
URL:https://www.iafflocal975.org/event/a-shift/2027-11-06/
CATEGORIES:A Shift
ATTACH;FMTTYPE=image/png:https://www.iafflocal975.org/wp-content/uploads/2021/09/icon-1.png
END:VEVENT
BEGIN:VEVENT
DTSTART;VALUE=DATE:20271109
DTEND;VALUE=DATE:20271110
DTSTAMP:20260423T191529
CREATED:20251215T001405Z
LAST-MODIFIED:20251215T001405Z
UID:10003604-1825718400-1825804799@www.iafflocal975.org
SUMMARY:A Shift
DESCRIPTION:
URL:https://www.iafflocal975.org/event/a-shift/2027-11-09/
CATEGORIES:A Shift
ATTACH;FMTTYPE=image/png:https://www.iafflocal975.org/wp-content/uploads/2021/09/icon-1.png
END:VEVENT
BEGIN:VEVENT
DTSTART;VALUE=DATE:20271112
DTEND;VALUE=DATE:20271113
DTSTAMP:20260423T191529
CREATED:20251215T001405Z
LAST-MODIFIED:20251215T001405Z
UID:10003605-1825977600-1826063999@www.iafflocal975.org
SUMMARY:A Shift
DESCRIPTION:
URL:https://www.iafflocal975.org/event/a-shift/2027-11-12/
CATEGORIES:A Shift
ATTACH;FMTTYPE=image/png:https://www.iafflocal975.org/wp-content/uploads/2021/09/icon-1.png
END:VEVENT
BEGIN:VEVENT
DTSTART;VALUE=DATE:20271115
DTEND;VALUE=DATE:20271116
DTSTAMP:20260423T191529
CREATED:20251215T001405Z
LAST-MODIFIED:20251215T001405Z
UID:10003606-1826236800-1826323199@www.iafflocal975.org
SUMMARY:A Shift
DESCRIPTION:
URL:https://www.iafflocal975.org/event/a-shift/2027-11-15/
CATEGORIES:A Shift
ATTACH;FMTTYPE=image/png:https://www.iafflocal975.org/wp-content/uploads/2021/09/icon-1.png
END:VEVENT
BEGIN:VEVENT
DTSTART;VALUE=DATE:20271118
DTEND;VALUE=DATE:20271119
DTSTAMP:20260423T191529
CREATED:20251215T001405Z
LAST-MODIFIED:20251215T001405Z
UID:10003607-1826496000-1826582399@www.iafflocal975.org
SUMMARY:A Shift
DESCRIPTION:
URL:https://www.iafflocal975.org/event/a-shift/2027-11-18/
CATEGORIES:A Shift
ATTACH;FMTTYPE=image/png:https://www.iafflocal975.org/wp-content/uploads/2021/09/icon-1.png
END:VEVENT
BEGIN:VEVENT
DTSTART;VALUE=DATE:20271121
DTEND;VALUE=DATE:20271122
DTSTAMP:20260423T191529
CREATED:20251215T001405Z
LAST-MODIFIED:20251215T001405Z
UID:10003608-1826755200-1826841599@www.iafflocal975.org
SUMMARY:A Shift
DESCRIPTION:
URL:https://www.iafflocal975.org/event/a-shift/2027-11-21/
CATEGORIES:A Shift
ATTACH;FMTTYPE=image/png:https://www.iafflocal975.org/wp-content/uploads/2021/09/icon-1.png
END:VEVENT
BEGIN:VEVENT
DTSTART;VALUE=DATE:20271124
DTEND;VALUE=DATE:20271125
DTSTAMP:20260423T191529
CREATED:20251215T001405Z
LAST-MODIFIED:20251215T001405Z
UID:10003609-1827014400-1827100799@www.iafflocal975.org
SUMMARY:A Shift
DESCRIPTION:
URL:https://www.iafflocal975.org/event/a-shift/2027-11-24/
CATEGORIES:A Shift
ATTACH;FMTTYPE=image/png:https://www.iafflocal975.org/wp-content/uploads/2021/09/icon-1.png
END:VEVENT
BEGIN:VEVENT
DTSTART;VALUE=DATE:20271127
DTEND;VALUE=DATE:20271128
DTSTAMP:20260423T191529
CREATED:20251215T001405Z
LAST-MODIFIED:20251215T001405Z
UID:10003610-1827273600-1827359999@www.iafflocal975.org
SUMMARY:A Shift
DESCRIPTION:
URL:https://www.iafflocal975.org/event/a-shift/2027-11-27/
CATEGORIES:A Shift
ATTACH;FMTTYPE=image/png:https://www.iafflocal975.org/wp-content/uploads/2021/09/icon-1.png
END:VEVENT
BEGIN:VEVENT
DTSTART;VALUE=DATE:20271130
DTEND;VALUE=DATE:20271201
DTSTAMP:20260423T191529
CREATED:20251215T001405Z
LAST-MODIFIED:20251215T001405Z
UID:10003611-1827532800-1827619199@www.iafflocal975.org
SUMMARY:A Shift
DESCRIPTION:
URL:https://www.iafflocal975.org/event/a-shift/2027-11-30/
CATEGORIES:A Shift
ATTACH;FMTTYPE=image/png:https://www.iafflocal975.org/wp-content/uploads/2021/09/icon-1.png
END:VEVENT
BEGIN:VEVENT
DTSTART;VALUE=DATE:20271203
DTEND;VALUE=DATE:20271204
DTSTAMP:20260423T191529
CREATED:20251215T001405Z
LAST-MODIFIED:20251215T001405Z
UID:10003612-1827792000-1827878399@www.iafflocal975.org
SUMMARY:A Shift
DESCRIPTION:
URL:https://www.iafflocal975.org/event/a-shift/2027-12-03/
CATEGORIES:A Shift
ATTACH;FMTTYPE=image/png:https://www.iafflocal975.org/wp-content/uploads/2021/09/icon-1.png
END:VEVENT
BEGIN:VEVENT
DTSTART;VALUE=DATE:20271206
DTEND;VALUE=DATE:20271207
DTSTAMP:20260423T191529
CREATED:20251215T001405Z
LAST-MODIFIED:20251215T001405Z
UID:10003613-1828051200-1828137599@www.iafflocal975.org
SUMMARY:A Shift
DESCRIPTION:
URL:https://www.iafflocal975.org/event/a-shift/2027-12-06/
CATEGORIES:A Shift
ATTACH;FMTTYPE=image/png:https://www.iafflocal975.org/wp-content/uploads/2021/09/icon-1.png
END:VEVENT
BEGIN:VEVENT
DTSTART;VALUE=DATE:20271209
DTEND;VALUE=DATE:20271210
DTSTAMP:20260423T191529
CREATED:20251215T001405Z
LAST-MODIFIED:20251215T001405Z
UID:10003614-1828310400-1828396799@www.iafflocal975.org
SUMMARY:A Shift
DESCRIPTION:
URL:https://www.iafflocal975.org/event/a-shift/2027-12-09/
CATEGORIES:A Shift
ATTACH;FMTTYPE=image/png:https://www.iafflocal975.org/wp-content/uploads/2021/09/icon-1.png
END:VEVENT
BEGIN:VEVENT
DTSTART;VALUE=DATE:20271212
DTEND;VALUE=DATE:20271213
DTSTAMP:20260423T191529
CREATED:20251215T001405Z
LAST-MODIFIED:20251215T001405Z
UID:10003615-1828569600-1828655999@www.iafflocal975.org
SUMMARY:A Shift
DESCRIPTION:
URL:https://www.iafflocal975.org/event/a-shift/2027-12-12/
CATEGORIES:A Shift
ATTACH;FMTTYPE=image/png:https://www.iafflocal975.org/wp-content/uploads/2021/09/icon-1.png
END:VEVENT
BEGIN:VEVENT
DTSTART;VALUE=DATE:20271215
DTEND;VALUE=DATE:20271216
DTSTAMP:20260423T191529
CREATED:20251215T001405Z
LAST-MODIFIED:20251215T001405Z
UID:10003616-1828828800-1828915199@www.iafflocal975.org
SUMMARY:A Shift
DESCRIPTION:
URL:https://www.iafflocal975.org/event/a-shift/2027-12-15/
CATEGORIES:A Shift
ATTACH;FMTTYPE=image/png:https://www.iafflocal975.org/wp-content/uploads/2021/09/icon-1.png
END:VEVENT
BEGIN:VEVENT
DTSTART;VALUE=DATE:20271218
DTEND;VALUE=DATE:20271219
DTSTAMP:20260423T191529
CREATED:20251215T001405Z
LAST-MODIFIED:20251215T001405Z
UID:10003617-1829088000-1829174399@www.iafflocal975.org
SUMMARY:A Shift
DESCRIPTION:
URL:https://www.iafflocal975.org/event/a-shift/2027-12-18/
CATEGORIES:A Shift
ATTACH;FMTTYPE=image/png:https://www.iafflocal975.org/wp-content/uploads/2021/09/icon-1.png
END:VEVENT
BEGIN:VEVENT
DTSTART;VALUE=DATE:20271221
DTEND;VALUE=DATE:20271222
DTSTAMP:20260423T191529
CREATED:20251215T001405Z
LAST-MODIFIED:20251215T001405Z
UID:10003618-1829347200-1829433599@www.iafflocal975.org
SUMMARY:A Shift
DESCRIPTION:
URL:https://www.iafflocal975.org/event/a-shift/2027-12-21/
CATEGORIES:A Shift
ATTACH;FMTTYPE=image/png:https://www.iafflocal975.org/wp-content/uploads/2021/09/icon-1.png
END:VEVENT
BEGIN:VEVENT
DTSTART;VALUE=DATE:20271224
DTEND;VALUE=DATE:20271225
DTSTAMP:20260423T191529
CREATED:20251215T001405Z
LAST-MODIFIED:20251215T001405Z
UID:10003619-1829606400-1829692799@www.iafflocal975.org
SUMMARY:A Shift
DESCRIPTION:
URL:https://www.iafflocal975.org/event/a-shift/2027-12-24/
CATEGORIES:A Shift
ATTACH;FMTTYPE=image/png:https://www.iafflocal975.org/wp-content/uploads/2021/09/icon-1.png
END:VEVENT
BEGIN:VEVENT
DTSTART;VALUE=DATE:20271227
DTEND;VALUE=DATE:20271228
DTSTAMP:20260423T191529
CREATED:20251215T001405Z
LAST-MODIFIED:20251215T001405Z
UID:10003620-1829865600-1829951999@www.iafflocal975.org
SUMMARY:A Shift
DESCRIPTION:
URL:https://www.iafflocal975.org/event/a-shift/2027-12-27/
CATEGORIES:A Shift
ATTACH;FMTTYPE=image/png:https://www.iafflocal975.org/wp-content/uploads/2021/09/icon-1.png
END:VEVENT
BEGIN:VEVENT
DTSTART;VALUE=DATE:20271230
DTEND;VALUE=DATE:20271231
DTSTAMP:20260423T191529
CREATED:20251215T001405Z
LAST-MODIFIED:20251215T001405Z
UID:10003621-1830124800-1830211199@www.iafflocal975.org
SUMMARY:A Shift
DESCRIPTION:
URL:https://www.iafflocal975.org/event/a-shift/2027-12-30/
CATEGORIES:A Shift
ATTACH;FMTTYPE=image/png:https://www.iafflocal975.org/wp-content/uploads/2021/09/icon-1.png
END:VEVENT
BEGIN:VEVENT
DTSTART;VALUE=DATE:20280102
DTEND;VALUE=DATE:20280103
DTSTAMP:20260423T191529
CREATED:20251215T001405Z
LAST-MODIFIED:20251215T001405Z
UID:10003622-1830384000-1830470399@www.iafflocal975.org
SUMMARY:A Shift
DESCRIPTION:
URL:https://www.iafflocal975.org/event/a-shift/2028-01-02/
CATEGORIES:A Shift
ATTACH;FMTTYPE=image/png:https://www.iafflocal975.org/wp-content/uploads/2021/09/icon-1.png
END:VEVENT
BEGIN:VEVENT
DTSTART;VALUE=DATE:20280105
DTEND;VALUE=DATE:20280106
DTSTAMP:20260423T191529
CREATED:20251215T001405Z
LAST-MODIFIED:20251215T001405Z
UID:10003623-1830643200-1830729599@www.iafflocal975.org
SUMMARY:A Shift
DESCRIPTION:
URL:https://www.iafflocal975.org/event/a-shift/2028-01-05/
CATEGORIES:A Shift
ATTACH;FMTTYPE=image/png:https://www.iafflocal975.org/wp-content/uploads/2021/09/icon-1.png
END:VEVENT
BEGIN:VEVENT
DTSTART;VALUE=DATE:20280108
DTEND;VALUE=DATE:20280109
DTSTAMP:20260423T191529
CREATED:20251215T001405Z
LAST-MODIFIED:20251215T001405Z
UID:10003624-1830902400-1830988799@www.iafflocal975.org
SUMMARY:A Shift
DESCRIPTION:
URL:https://www.iafflocal975.org/event/a-shift/2028-01-08/
CATEGORIES:A Shift
ATTACH;FMTTYPE=image/png:https://www.iafflocal975.org/wp-content/uploads/2021/09/icon-1.png
END:VEVENT
BEGIN:VEVENT
DTSTART;VALUE=DATE:20280111
DTEND;VALUE=DATE:20280112
DTSTAMP:20260423T191529
CREATED:20251215T001405Z
LAST-MODIFIED:20251215T001405Z
UID:10003625-1831161600-1831247999@www.iafflocal975.org
SUMMARY:A Shift
DESCRIPTION:
URL:https://www.iafflocal975.org/event/a-shift/2028-01-11/
CATEGORIES:A Shift
ATTACH;FMTTYPE=image/png:https://www.iafflocal975.org/wp-content/uploads/2021/09/icon-1.png
END:VEVENT
BEGIN:VEVENT
DTSTART;VALUE=DATE:20280114
DTEND;VALUE=DATE:20280115
DTSTAMP:20260423T191529
CREATED:20251215T001405Z
LAST-MODIFIED:20251215T001405Z
UID:10003626-1831420800-1831507199@www.iafflocal975.org
SUMMARY:A Shift
DESCRIPTION:
URL:https://www.iafflocal975.org/event/a-shift/2028-01-14/
CATEGORIES:A Shift
ATTACH;FMTTYPE=image/png:https://www.iafflocal975.org/wp-content/uploads/2021/09/icon-1.png
END:VEVENT
BEGIN:VEVENT
DTSTART;VALUE=DATE:20280117
DTEND;VALUE=DATE:20280118
DTSTAMP:20260423T191529
CREATED:20251215T001405Z
LAST-MODIFIED:20251215T001405Z
UID:10003627-1831680000-1831766399@www.iafflocal975.org
SUMMARY:A Shift
DESCRIPTION:
URL:https://www.iafflocal975.org/event/a-shift/2028-01-17/
CATEGORIES:A Shift
ATTACH;FMTTYPE=image/png:https://www.iafflocal975.org/wp-content/uploads/2021/09/icon-1.png
END:VEVENT
BEGIN:VEVENT
DTSTART;VALUE=DATE:20280120
DTEND;VALUE=DATE:20280121
DTSTAMP:20260423T191529
CREATED:20251215T001405Z
LAST-MODIFIED:20251215T001405Z
UID:10003628-1831939200-1832025599@www.iafflocal975.org
SUMMARY:A Shift
DESCRIPTION:
URL:https://www.iafflocal975.org/event/a-shift/2028-01-20/
CATEGORIES:A Shift
ATTACH;FMTTYPE=image/png:https://www.iafflocal975.org/wp-content/uploads/2021/09/icon-1.png
END:VEVENT
BEGIN:VEVENT
DTSTART;VALUE=DATE:20280123
DTEND;VALUE=DATE:20280124
DTSTAMP:20260423T191529
CREATED:20251215T001405Z
LAST-MODIFIED:20251215T001405Z
UID:10003629-1832198400-1832284799@www.iafflocal975.org
SUMMARY:A Shift
DESCRIPTION:
URL:https://www.iafflocal975.org/event/a-shift/2028-01-23/
CATEGORIES:A Shift
ATTACH;FMTTYPE=image/png:https://www.iafflocal975.org/wp-content/uploads/2021/09/icon-1.png
END:VEVENT
BEGIN:VEVENT
DTSTART;VALUE=DATE:20280126
DTEND;VALUE=DATE:20280127
DTSTAMP:20260423T191529
CREATED:20251215T001405Z
LAST-MODIFIED:20251215T001405Z
UID:10003630-1832457600-1832543999@www.iafflocal975.org
SUMMARY:A Shift
DESCRIPTION:
URL:https://www.iafflocal975.org/event/a-shift/2028-01-26/
CATEGORIES:A Shift
ATTACH;FMTTYPE=image/png:https://www.iafflocal975.org/wp-content/uploads/2021/09/icon-1.png
END:VEVENT
BEGIN:VEVENT
DTSTART;VALUE=DATE:20280129
DTEND;VALUE=DATE:20280130
DTSTAMP:20260423T191529
CREATED:20251215T001405Z
LAST-MODIFIED:20251215T001405Z
UID:10003631-1832716800-1832803199@www.iafflocal975.org
SUMMARY:A Shift
DESCRIPTION:
URL:https://www.iafflocal975.org/event/a-shift/2028-01-29/
CATEGORIES:A Shift
ATTACH;FMTTYPE=image/png:https://www.iafflocal975.org/wp-content/uploads/2021/09/icon-1.png
END:VEVENT
BEGIN:VEVENT
DTSTART;VALUE=DATE:20280201
DTEND;VALUE=DATE:20280202
DTSTAMP:20260423T191529
CREATED:20251215T001405Z
LAST-MODIFIED:20251215T001405Z
UID:10003632-1832976000-1833062399@www.iafflocal975.org
SUMMARY:A Shift
DESCRIPTION:
URL:https://www.iafflocal975.org/event/a-shift/2028-02-01/
CATEGORIES:A Shift
ATTACH;FMTTYPE=image/png:https://www.iafflocal975.org/wp-content/uploads/2021/09/icon-1.png
END:VEVENT
END:VCALENDAR