BEGIN:VCALENDAR
VERSION:2.0
PRODID:-//Austin Firefighters Association - ECPv6.15.20//NONSGML v1.0//EN
CALSCALE:GREGORIAN
METHOD:PUBLISH
X-WR-CALNAME:Austin Firefighters Association
X-ORIGINAL-URL:https://www.iafflocal975.org
X-WR-CALDESC:Events for Austin Firefighters Association
REFRESH-INTERVAL;VALUE=DURATION:PT1H
X-Robots-Tag:noindex
X-PUBLISHED-TTL:PT1H
BEGIN:VTIMEZONE
TZID:America/Chicago
BEGIN:DAYLIGHT
TZOFFSETFROM:-0600
TZOFFSETTO:-0500
TZNAME:CDT
DTSTART:20290311T080000
END:DAYLIGHT
BEGIN:STANDARD
TZOFFSETFROM:-0500
TZOFFSETTO:-0600
TZNAME:CST
DTSTART:20291104T070000
END:STANDARD
BEGIN:DAYLIGHT
TZOFFSETFROM:-0600
TZOFFSETTO:-0500
TZNAME:CDT
DTSTART:20300310T080000
END:DAYLIGHT
BEGIN:STANDARD
TZOFFSETFROM:-0500
TZOFFSETTO:-0600
TZNAME:CST
DTSTART:20301103T070000
END:STANDARD
BEGIN:DAYLIGHT
TZOFFSETFROM:-0600
TZOFFSETTO:-0500
TZNAME:CDT
DTSTART:20310309T080000
END:DAYLIGHT
BEGIN:STANDARD
TZOFFSETFROM:-0500
TZOFFSETTO:-0600
TZNAME:CST
DTSTART:20311102T070000
END:STANDARD
END:VTIMEZONE
BEGIN:VEVENT
DTSTART;TZID=America/Chicago:20300312T130000
DTEND;TZID=America/Chicago:20300312T130000
DTSTAMP:20260425T212617
CREATED:20251215T000942Z
LAST-MODIFIED:20251215T001003Z
UID:10002010-1899550800-1899550800@www.iafflocal975.org
SUMMARY:Membership Meeting
DESCRIPTION:Membership Meeting
URL:https://www.iafflocal975.org/event/membership-meeting/2030-03-12/
CATEGORIES:Union Meeting
ATTACH;FMTTYPE=image/png:https://www.iafflocal975.org/wp-content/uploads/2021/09/icon-1.png
END:VEVENT
BEGIN:VEVENT
DTSTART;TZID=America/Chicago:20300409T130000
DTEND;TZID=America/Chicago:20300409T130000
DTSTAMP:20260425T212617
CREATED:20251215T000942Z
LAST-MODIFIED:20251215T001003Z
UID:10002011-1901970000-1901970000@www.iafflocal975.org
SUMMARY:Membership Meeting
DESCRIPTION:Membership Meeting
URL:https://www.iafflocal975.org/event/membership-meeting/2030-04-09/
CATEGORIES:Union Meeting
ATTACH;FMTTYPE=image/png:https://www.iafflocal975.org/wp-content/uploads/2021/09/icon-1.png
END:VEVENT
BEGIN:VEVENT
DTSTART;TZID=America/Chicago:20300514T130000
DTEND;TZID=America/Chicago:20300514T130000
DTSTAMP:20260425T212617
CREATED:20251215T000942Z
LAST-MODIFIED:20251215T001003Z
UID:10002012-1904994000-1904994000@www.iafflocal975.org
SUMMARY:Membership Meeting
DESCRIPTION:Membership Meeting
URL:https://www.iafflocal975.org/event/membership-meeting/2030-05-14/
CATEGORIES:Union Meeting
ATTACH;FMTTYPE=image/png:https://www.iafflocal975.org/wp-content/uploads/2021/09/icon-1.png
END:VEVENT
BEGIN:VEVENT
DTSTART;TZID=America/Chicago:20300611T130000
DTEND;TZID=America/Chicago:20300611T130000
DTSTAMP:20260425T212617
CREATED:20251215T000942Z
LAST-MODIFIED:20251215T001003Z
UID:10002013-1907413200-1907413200@www.iafflocal975.org
SUMMARY:Membership Meeting
DESCRIPTION:Membership Meeting
URL:https://www.iafflocal975.org/event/membership-meeting/2030-06-11/
CATEGORIES:Union Meeting
ATTACH;FMTTYPE=image/png:https://www.iafflocal975.org/wp-content/uploads/2021/09/icon-1.png
END:VEVENT
BEGIN:VEVENT
DTSTART;TZID=America/Chicago:20300709T130000
DTEND;TZID=America/Chicago:20300709T130000
DTSTAMP:20260425T212617
CREATED:20251215T000942Z
LAST-MODIFIED:20251215T001003Z
UID:10002014-1909832400-1909832400@www.iafflocal975.org
SUMMARY:Membership Meeting
DESCRIPTION:Membership Meeting
URL:https://www.iafflocal975.org/event/membership-meeting/2030-07-09/
CATEGORIES:Union Meeting
ATTACH;FMTTYPE=image/png:https://www.iafflocal975.org/wp-content/uploads/2021/09/icon-1.png
END:VEVENT
BEGIN:VEVENT
DTSTART;TZID=America/Chicago:20300813T130000
DTEND;TZID=America/Chicago:20300813T130000
DTSTAMP:20260425T212617
CREATED:20251215T000942Z
LAST-MODIFIED:20251215T001003Z
UID:10002015-1912856400-1912856400@www.iafflocal975.org
SUMMARY:Membership Meeting
DESCRIPTION:Membership Meeting
URL:https://www.iafflocal975.org/event/membership-meeting/2030-08-13/
CATEGORIES:Union Meeting
ATTACH;FMTTYPE=image/png:https://www.iafflocal975.org/wp-content/uploads/2021/09/icon-1.png
END:VEVENT
BEGIN:VEVENT
DTSTART;TZID=America/Chicago:20300910T130000
DTEND;TZID=America/Chicago:20300910T130000
DTSTAMP:20260425T212617
CREATED:20251215T000942Z
LAST-MODIFIED:20251215T001003Z
UID:10002016-1915275600-1915275600@www.iafflocal975.org
SUMMARY:Membership Meeting
DESCRIPTION:Membership Meeting
URL:https://www.iafflocal975.org/event/membership-meeting/2030-09-10/
CATEGORIES:Union Meeting
ATTACH;FMTTYPE=image/png:https://www.iafflocal975.org/wp-content/uploads/2021/09/icon-1.png
END:VEVENT
BEGIN:VEVENT
DTSTART;TZID=America/Chicago:20301008T130000
DTEND;TZID=America/Chicago:20301008T130000
DTSTAMP:20260425T212617
CREATED:20251215T000942Z
LAST-MODIFIED:20251215T001003Z
UID:10002017-1917694800-1917694800@www.iafflocal975.org
SUMMARY:Membership Meeting
DESCRIPTION:Membership Meeting
URL:https://www.iafflocal975.org/event/membership-meeting/2030-10-08/
CATEGORIES:Union Meeting
ATTACH;FMTTYPE=image/png:https://www.iafflocal975.org/wp-content/uploads/2021/09/icon-1.png
END:VEVENT
BEGIN:VEVENT
DTSTART;TZID=America/Chicago:20301112T130000
DTEND;TZID=America/Chicago:20301112T130000
DTSTAMP:20260425T212617
CREATED:20251215T000942Z
LAST-MODIFIED:20251215T001003Z
UID:10002018-1920718800-1920718800@www.iafflocal975.org
SUMMARY:Membership Meeting
DESCRIPTION:Membership Meeting
URL:https://www.iafflocal975.org/event/membership-meeting/2030-11-12/
CATEGORIES:Union Meeting
ATTACH;FMTTYPE=image/png:https://www.iafflocal975.org/wp-content/uploads/2021/09/icon-1.png
END:VEVENT
BEGIN:VEVENT
DTSTART;TZID=America/Chicago:20301210T130000
DTEND;TZID=America/Chicago:20301210T130000
DTSTAMP:20260425T212617
CREATED:20251215T000942Z
LAST-MODIFIED:20251215T001003Z
UID:10002019-1923138000-1923138000@www.iafflocal975.org
SUMMARY:Membership Meeting
DESCRIPTION:Membership Meeting
URL:https://www.iafflocal975.org/event/membership-meeting/2030-12-10/
CATEGORIES:Union Meeting
ATTACH;FMTTYPE=image/png:https://www.iafflocal975.org/wp-content/uploads/2021/09/icon-1.png
END:VEVENT
END:VCALENDAR