BEGIN:VCALENDAR
VERSION:2.0
PRODID:-//Austin Firefighters Association - ECPv6.15.20//NONSGML v1.0//EN
CALSCALE:GREGORIAN
METHOD:PUBLISH
X-WR-CALNAME:Austin Firefighters Association
X-ORIGINAL-URL:https://www.iafflocal975.org
X-WR-CALDESC:Events for Austin Firefighters Association
REFRESH-INTERVAL;VALUE=DURATION:PT1H
X-Robots-Tag:noindex
X-PUBLISHED-TTL:PT1H
BEGIN:VTIMEZONE
TZID:America/Chicago
BEGIN:DAYLIGHT
TZOFFSETFROM:-0600
TZOFFSETTO:-0500
TZNAME:CDT
DTSTART:20260308T080000
END:DAYLIGHT
BEGIN:STANDARD
TZOFFSETFROM:-0500
TZOFFSETTO:-0600
TZNAME:CST
DTSTART:20261101T070000
END:STANDARD
BEGIN:DAYLIGHT
TZOFFSETFROM:-0600
TZOFFSETTO:-0500
TZNAME:CDT
DTSTART:20270314T080000
END:DAYLIGHT
BEGIN:STANDARD
TZOFFSETFROM:-0500
TZOFFSETTO:-0600
TZNAME:CST
DTSTART:20271107T070000
END:STANDARD
BEGIN:DAYLIGHT
TZOFFSETFROM:-0600
TZOFFSETTO:-0500
TZNAME:CDT
DTSTART:20280312T080000
END:DAYLIGHT
BEGIN:STANDARD
TZOFFSETFROM:-0500
TZOFFSETTO:-0600
TZNAME:CST
DTSTART:20281105T070000
END:STANDARD
END:VTIMEZONE
BEGIN:VEVENT
DTSTART;VALUE=DATE:20270202
DTEND;VALUE=DATE:20270203
DTSTAMP:20260421T143421
CREATED:20251215T001313Z
LAST-MODIFIED:20251215T001313Z
UID:10002857-1801526400-1801612799@www.iafflocal975.org
SUMMARY:C Shift
DESCRIPTION:
URL:https://www.iafflocal975.org/event/c-shift/2027-02-02/
CATEGORIES:C Shift
ATTACH;FMTTYPE=image/png:https://www.iafflocal975.org/wp-content/uploads/2021/09/icon-1.png
END:VEVENT
BEGIN:VEVENT
DTSTART;VALUE=DATE:20270203
DTEND;VALUE=DATE:20270204
DTSTAMP:20260421T143421
CREATED:20251215T001405Z
LAST-MODIFIED:20251215T001405Z
UID:10003511-1801612800-1801699199@www.iafflocal975.org
SUMMARY:A Shift
DESCRIPTION:
URL:https://www.iafflocal975.org/event/a-shift/2027-02-03/
CATEGORIES:A Shift
ATTACH;FMTTYPE=image/png:https://www.iafflocal975.org/wp-content/uploads/2021/09/icon-1.png
END:VEVENT
BEGIN:VEVENT
DTSTART;VALUE=DATE:20270204
DTEND;VALUE=DATE:20270205
DTSTAMP:20260421T143421
CREATED:20251215T001211Z
LAST-MODIFIED:20251215T001211Z
UID:10002204-1801699200-1801785599@www.iafflocal975.org
SUMMARY:B Shift
DESCRIPTION:
URL:https://www.iafflocal975.org/event/b-shift/2027-02-04/
CATEGORIES:B Shift
ATTACH;FMTTYPE=image/png:https://www.iafflocal975.org/wp-content/uploads/2021/09/icon-1.png
END:VEVENT
BEGIN:VEVENT
DTSTART;VALUE=DATE:20270205
DTEND;VALUE=DATE:20270206
DTSTAMP:20260421T143421
CREATED:20251215T001313Z
LAST-MODIFIED:20251215T001313Z
UID:10002858-1801785600-1801871999@www.iafflocal975.org
SUMMARY:C Shift
DESCRIPTION:
URL:https://www.iafflocal975.org/event/c-shift/2027-02-05/
CATEGORIES:C Shift
ATTACH;FMTTYPE=image/png:https://www.iafflocal975.org/wp-content/uploads/2021/09/icon-1.png
END:VEVENT
BEGIN:VEVENT
DTSTART;VALUE=DATE:20270206
DTEND;VALUE=DATE:20270207
DTSTAMP:20260421T143421
CREATED:20251215T001405Z
LAST-MODIFIED:20251215T001405Z
UID:10003512-1801872000-1801958399@www.iafflocal975.org
SUMMARY:A Shift
DESCRIPTION:
URL:https://www.iafflocal975.org/event/a-shift/2027-02-06/
CATEGORIES:A Shift
ATTACH;FMTTYPE=image/png:https://www.iafflocal975.org/wp-content/uploads/2021/09/icon-1.png
END:VEVENT
BEGIN:VEVENT
DTSTART;VALUE=DATE:20270207
DTEND;VALUE=DATE:20270208
DTSTAMP:20260421T143421
CREATED:20251215T001211Z
LAST-MODIFIED:20251215T001211Z
UID:10002205-1801958400-1802044799@www.iafflocal975.org
SUMMARY:B Shift
DESCRIPTION:
URL:https://www.iafflocal975.org/event/b-shift/2027-02-07/
CATEGORIES:B Shift
ATTACH;FMTTYPE=image/png:https://www.iafflocal975.org/wp-content/uploads/2021/09/icon-1.png
END:VEVENT
BEGIN:VEVENT
DTSTART;VALUE=DATE:20270208
DTEND;VALUE=DATE:20270209
DTSTAMP:20260421T143421
CREATED:20251215T001313Z
LAST-MODIFIED:20251215T001313Z
UID:10002859-1802044800-1802131199@www.iafflocal975.org
SUMMARY:C Shift
DESCRIPTION:
URL:https://www.iafflocal975.org/event/c-shift/2027-02-08/
CATEGORIES:C Shift
ATTACH;FMTTYPE=image/png:https://www.iafflocal975.org/wp-content/uploads/2021/09/icon-1.png
END:VEVENT
BEGIN:VEVENT
DTSTART;VALUE=DATE:20270209
DTEND;VALUE=DATE:20270210
DTSTAMP:20260421T143421
CREATED:20251215T001405Z
LAST-MODIFIED:20251215T001405Z
UID:10003513-1802131200-1802217599@www.iafflocal975.org
SUMMARY:A Shift
DESCRIPTION:
URL:https://www.iafflocal975.org/event/a-shift/2027-02-09/
CATEGORIES:A Shift
ATTACH;FMTTYPE=image/png:https://www.iafflocal975.org/wp-content/uploads/2021/09/icon-1.png
END:VEVENT
BEGIN:VEVENT
DTSTART;TZID=America/Chicago:20270209T130000
DTEND;TZID=America/Chicago:20270209T130000
DTSTAMP:20260421T143421
CREATED:20251215T000942Z
LAST-MODIFIED:20251215T001003Z
UID:10001973-1802178000-1802178000@www.iafflocal975.org
SUMMARY:Membership Meeting
DESCRIPTION:Membership Meeting
URL:https://www.iafflocal975.org/event/membership-meeting/2027-02-09/
CATEGORIES:Union Meeting
ATTACH;FMTTYPE=image/png:https://www.iafflocal975.org/wp-content/uploads/2021/09/icon-1.png
END:VEVENT
BEGIN:VEVENT
DTSTART;VALUE=DATE:20270210
DTEND;VALUE=DATE:20270211
DTSTAMP:20260421T143421
CREATED:20251215T001211Z
LAST-MODIFIED:20251215T001211Z
UID:10002206-1802217600-1802303999@www.iafflocal975.org
SUMMARY:B Shift
DESCRIPTION:
URL:https://www.iafflocal975.org/event/b-shift/2027-02-10/
CATEGORIES:B Shift
ATTACH;FMTTYPE=image/png:https://www.iafflocal975.org/wp-content/uploads/2021/09/icon-1.png
END:VEVENT
BEGIN:VEVENT
DTSTART;VALUE=DATE:20270211
DTEND;VALUE=DATE:20270212
DTSTAMP:20260421T143421
CREATED:20251215T001313Z
LAST-MODIFIED:20251215T001313Z
UID:10002860-1802304000-1802390399@www.iafflocal975.org
SUMMARY:C Shift
DESCRIPTION:
URL:https://www.iafflocal975.org/event/c-shift/2027-02-11/
CATEGORIES:C Shift
ATTACH;FMTTYPE=image/png:https://www.iafflocal975.org/wp-content/uploads/2021/09/icon-1.png
END:VEVENT
BEGIN:VEVENT
DTSTART;VALUE=DATE:20270212
DTEND;VALUE=DATE:20270213
DTSTAMP:20260421T143421
CREATED:20251215T001405Z
LAST-MODIFIED:20251215T001405Z
UID:10003514-1802390400-1802476799@www.iafflocal975.org
SUMMARY:A Shift
DESCRIPTION:
URL:https://www.iafflocal975.org/event/a-shift/2027-02-12/
CATEGORIES:A Shift
ATTACH;FMTTYPE=image/png:https://www.iafflocal975.org/wp-content/uploads/2021/09/icon-1.png
END:VEVENT
BEGIN:VEVENT
DTSTART;VALUE=DATE:20270213
DTEND;VALUE=DATE:20270214
DTSTAMP:20260421T143421
CREATED:20251215T001211Z
LAST-MODIFIED:20251215T001211Z
UID:10002207-1802476800-1802563199@www.iafflocal975.org
SUMMARY:B Shift
DESCRIPTION:
URL:https://www.iafflocal975.org/event/b-shift/2027-02-13/
CATEGORIES:B Shift
ATTACH;FMTTYPE=image/png:https://www.iafflocal975.org/wp-content/uploads/2021/09/icon-1.png
END:VEVENT
BEGIN:VEVENT
DTSTART;VALUE=DATE:20270214
DTEND;VALUE=DATE:20270215
DTSTAMP:20260421T143421
CREATED:20251215T001313Z
LAST-MODIFIED:20251215T001313Z
UID:10002861-1802563200-1802649599@www.iafflocal975.org
SUMMARY:C Shift
DESCRIPTION:
URL:https://www.iafflocal975.org/event/c-shift/2027-02-14/
CATEGORIES:C Shift
ATTACH;FMTTYPE=image/png:https://www.iafflocal975.org/wp-content/uploads/2021/09/icon-1.png
END:VEVENT
BEGIN:VEVENT
DTSTART;VALUE=DATE:20270215
DTEND;VALUE=DATE:20270216
DTSTAMP:20260421T143421
CREATED:20251215T001405Z
LAST-MODIFIED:20251215T001405Z
UID:10003515-1802649600-1802735999@www.iafflocal975.org
SUMMARY:A Shift
DESCRIPTION:
URL:https://www.iafflocal975.org/event/a-shift/2027-02-15/
CATEGORIES:A Shift
ATTACH;FMTTYPE=image/png:https://www.iafflocal975.org/wp-content/uploads/2021/09/icon-1.png
END:VEVENT
BEGIN:VEVENT
DTSTART;VALUE=DATE:20270216
DTEND;VALUE=DATE:20270217
DTSTAMP:20260421T143421
CREATED:20251215T001211Z
LAST-MODIFIED:20251215T001211Z
UID:10002208-1802736000-1802822399@www.iafflocal975.org
SUMMARY:B Shift
DESCRIPTION:
URL:https://www.iafflocal975.org/event/b-shift/2027-02-16/
CATEGORIES:B Shift
ATTACH;FMTTYPE=image/png:https://www.iafflocal975.org/wp-content/uploads/2021/09/icon-1.png
END:VEVENT
BEGIN:VEVENT
DTSTART;VALUE=DATE:20270217
DTEND;VALUE=DATE:20270218
DTSTAMP:20260421T143421
CREATED:20251215T001313Z
LAST-MODIFIED:20251215T001313Z
UID:10002862-1802822400-1802908799@www.iafflocal975.org
SUMMARY:C Shift
DESCRIPTION:
URL:https://www.iafflocal975.org/event/c-shift/2027-02-17/
CATEGORIES:C Shift
ATTACH;FMTTYPE=image/png:https://www.iafflocal975.org/wp-content/uploads/2021/09/icon-1.png
END:VEVENT
BEGIN:VEVENT
DTSTART;VALUE=DATE:20270218
DTEND;VALUE=DATE:20270219
DTSTAMP:20260421T143421
CREATED:20251215T001405Z
LAST-MODIFIED:20251215T001405Z
UID:10003516-1802908800-1802995199@www.iafflocal975.org
SUMMARY:A Shift
DESCRIPTION:
URL:https://www.iafflocal975.org/event/a-shift/2027-02-18/
CATEGORIES:A Shift
ATTACH;FMTTYPE=image/png:https://www.iafflocal975.org/wp-content/uploads/2021/09/icon-1.png
END:VEVENT
BEGIN:VEVENT
DTSTART;VALUE=DATE:20270219
DTEND;VALUE=DATE:20270220
DTSTAMP:20260421T143421
CREATED:20251215T001211Z
LAST-MODIFIED:20251215T001211Z
UID:10002209-1802995200-1803081599@www.iafflocal975.org
SUMMARY:B Shift
DESCRIPTION:
URL:https://www.iafflocal975.org/event/b-shift/2027-02-19/
CATEGORIES:B Shift
ATTACH;FMTTYPE=image/png:https://www.iafflocal975.org/wp-content/uploads/2021/09/icon-1.png
END:VEVENT
BEGIN:VEVENT
DTSTART;VALUE=DATE:20270220
DTEND;VALUE=DATE:20270221
DTSTAMP:20260421T143421
CREATED:20251215T001313Z
LAST-MODIFIED:20251215T001313Z
UID:10002863-1803081600-1803167999@www.iafflocal975.org
SUMMARY:C Shift
DESCRIPTION:
URL:https://www.iafflocal975.org/event/c-shift/2027-02-20/
CATEGORIES:C Shift
ATTACH;FMTTYPE=image/png:https://www.iafflocal975.org/wp-content/uploads/2021/09/icon-1.png
END:VEVENT
BEGIN:VEVENT
DTSTART;VALUE=DATE:20270221
DTEND;VALUE=DATE:20270222
DTSTAMP:20260421T143421
CREATED:20251215T001405Z
LAST-MODIFIED:20251215T001405Z
UID:10003517-1803168000-1803254399@www.iafflocal975.org
SUMMARY:A Shift
DESCRIPTION:
URL:https://www.iafflocal975.org/event/a-shift/2027-02-21/
CATEGORIES:A Shift
ATTACH;FMTTYPE=image/png:https://www.iafflocal975.org/wp-content/uploads/2021/09/icon-1.png
END:VEVENT
BEGIN:VEVENT
DTSTART;VALUE=DATE:20270222
DTEND;VALUE=DATE:20270223
DTSTAMP:20260421T143421
CREATED:20251215T001211Z
LAST-MODIFIED:20251215T001211Z
UID:10002210-1803254400-1803340799@www.iafflocal975.org
SUMMARY:B Shift
DESCRIPTION:
URL:https://www.iafflocal975.org/event/b-shift/2027-02-22/
CATEGORIES:B Shift
ATTACH;FMTTYPE=image/png:https://www.iafflocal975.org/wp-content/uploads/2021/09/icon-1.png
END:VEVENT
BEGIN:VEVENT
DTSTART;VALUE=DATE:20270223
DTEND;VALUE=DATE:20270224
DTSTAMP:20260421T143421
CREATED:20251215T001313Z
LAST-MODIFIED:20251215T001313Z
UID:10002864-1803340800-1803427199@www.iafflocal975.org
SUMMARY:C Shift
DESCRIPTION:
URL:https://www.iafflocal975.org/event/c-shift/2027-02-23/
CATEGORIES:C Shift
ATTACH;FMTTYPE=image/png:https://www.iafflocal975.org/wp-content/uploads/2021/09/icon-1.png
END:VEVENT
BEGIN:VEVENT
DTSTART;VALUE=DATE:20270224
DTEND;VALUE=DATE:20270225
DTSTAMP:20260421T143421
CREATED:20251215T001405Z
LAST-MODIFIED:20251215T001405Z
UID:10003518-1803427200-1803513599@www.iafflocal975.org
SUMMARY:A Shift
DESCRIPTION:
URL:https://www.iafflocal975.org/event/a-shift/2027-02-24/
CATEGORIES:A Shift
ATTACH;FMTTYPE=image/png:https://www.iafflocal975.org/wp-content/uploads/2021/09/icon-1.png
END:VEVENT
BEGIN:VEVENT
DTSTART;VALUE=DATE:20270225
DTEND;VALUE=DATE:20270226
DTSTAMP:20260421T143421
CREATED:20251215T001211Z
LAST-MODIFIED:20251215T001211Z
UID:10002211-1803513600-1803599999@www.iafflocal975.org
SUMMARY:B Shift
DESCRIPTION:
URL:https://www.iafflocal975.org/event/b-shift/2027-02-25/
CATEGORIES:B Shift
ATTACH;FMTTYPE=image/png:https://www.iafflocal975.org/wp-content/uploads/2021/09/icon-1.png
END:VEVENT
BEGIN:VEVENT
DTSTART;VALUE=DATE:20270226
DTEND;VALUE=DATE:20270227
DTSTAMP:20260421T143421
CREATED:20251215T001313Z
LAST-MODIFIED:20251215T001313Z
UID:10002865-1803600000-1803686399@www.iafflocal975.org
SUMMARY:C Shift
DESCRIPTION:
URL:https://www.iafflocal975.org/event/c-shift/2027-02-26/
CATEGORIES:C Shift
ATTACH;FMTTYPE=image/png:https://www.iafflocal975.org/wp-content/uploads/2021/09/icon-1.png
END:VEVENT
BEGIN:VEVENT
DTSTART;VALUE=DATE:20270227
DTEND;VALUE=DATE:20270228
DTSTAMP:20260421T143421
CREATED:20251215T001405Z
LAST-MODIFIED:20251215T001405Z
UID:10003519-1803686400-1803772799@www.iafflocal975.org
SUMMARY:A Shift
DESCRIPTION:
URL:https://www.iafflocal975.org/event/a-shift/2027-02-27/
CATEGORIES:A Shift
ATTACH;FMTTYPE=image/png:https://www.iafflocal975.org/wp-content/uploads/2021/09/icon-1.png
END:VEVENT
BEGIN:VEVENT
DTSTART;VALUE=DATE:20270228
DTEND;VALUE=DATE:20270301
DTSTAMP:20260421T143421
CREATED:20251215T001211Z
LAST-MODIFIED:20251215T001211Z
UID:10002212-1803772800-1803859199@www.iafflocal975.org
SUMMARY:B Shift
DESCRIPTION:
URL:https://www.iafflocal975.org/event/b-shift/2027-02-28/
CATEGORIES:B Shift
ATTACH;FMTTYPE=image/png:https://www.iafflocal975.org/wp-content/uploads/2021/09/icon-1.png
END:VEVENT
BEGIN:VEVENT
DTSTART;VALUE=DATE:20270301
DTEND;VALUE=DATE:20270302
DTSTAMP:20260421T143421
CREATED:20251215T001313Z
LAST-MODIFIED:20251215T001313Z
UID:10002866-1803859200-1803945599@www.iafflocal975.org
SUMMARY:C Shift
DESCRIPTION:
URL:https://www.iafflocal975.org/event/c-shift/2027-03-01/
CATEGORIES:C Shift
ATTACH;FMTTYPE=image/png:https://www.iafflocal975.org/wp-content/uploads/2021/09/icon-1.png
END:VEVENT
BEGIN:VEVENT
DTSTART;VALUE=DATE:20270302
DTEND;VALUE=DATE:20270303
DTSTAMP:20260421T143421
CREATED:20251215T001405Z
LAST-MODIFIED:20251215T001405Z
UID:10003520-1803945600-1804031999@www.iafflocal975.org
SUMMARY:A Shift
DESCRIPTION:
URL:https://www.iafflocal975.org/event/a-shift/2027-03-02/
CATEGORIES:A Shift
ATTACH;FMTTYPE=image/png:https://www.iafflocal975.org/wp-content/uploads/2021/09/icon-1.png
END:VEVENT
END:VCALENDAR