BEGIN:VCALENDAR
VERSION:2.0
PRODID:-//Austin Firefighters Association - ECPv6.15.20//NONSGML v1.0//EN
CALSCALE:GREGORIAN
METHOD:PUBLISH
X-ORIGINAL-URL:https://www.iafflocal975.org
X-WR-CALDESC:Events for Austin Firefighters Association
REFRESH-INTERVAL;VALUE=DURATION:PT1H
X-Robots-Tag:noindex
X-PUBLISHED-TTL:PT1H
BEGIN:VTIMEZONE
TZID:America/Chicago
BEGIN:DAYLIGHT
TZOFFSETFROM:-0600
TZOFFSETTO:-0500
TZNAME:CDT
DTSTART:20260308T080000
END:DAYLIGHT
BEGIN:STANDARD
TZOFFSETFROM:-0500
TZOFFSETTO:-0600
TZNAME:CST
DTSTART:20261101T070000
END:STANDARD
BEGIN:DAYLIGHT
TZOFFSETFROM:-0600
TZOFFSETTO:-0500
TZNAME:CDT
DTSTART:20270314T080000
END:DAYLIGHT
BEGIN:STANDARD
TZOFFSETFROM:-0500
TZOFFSETTO:-0600
TZNAME:CST
DTSTART:20271107T070000
END:STANDARD
BEGIN:DAYLIGHT
TZOFFSETFROM:-0600
TZOFFSETTO:-0500
TZNAME:CDT
DTSTART:20280312T080000
END:DAYLIGHT
BEGIN:STANDARD
TZOFFSETFROM:-0500
TZOFFSETTO:-0600
TZNAME:CST
DTSTART:20281105T070000
END:STANDARD
END:VTIMEZONE
BEGIN:VEVENT
DTSTART;VALUE=DATE:20270421
DTEND;VALUE=DATE:20270422
DTSTAMP:20260421T195045
CREATED:20251215T001313Z
LAST-MODIFIED:20251215T001313Z
UID:10002883-1808265600-1808351999@www.iafflocal975.org
SUMMARY:C Shift
DESCRIPTION:
URL:https://www.iafflocal975.org/event/c-shift/2027-04-21/
CATEGORIES:C Shift
ATTACH;FMTTYPE=image/png:https://www.iafflocal975.org/wp-content/uploads/2021/09/icon-1.png
END:VEVENT
BEGIN:VEVENT
DTSTART;VALUE=DATE:20270422
DTEND;VALUE=DATE:20270423
DTSTAMP:20260421T195045
CREATED:20251215T001405Z
LAST-MODIFIED:20251215T001405Z
UID:10003537-1808352000-1808438399@www.iafflocal975.org
SUMMARY:A Shift
DESCRIPTION:
URL:https://www.iafflocal975.org/event/a-shift/2027-04-22/
CATEGORIES:A Shift
ATTACH;FMTTYPE=image/png:https://www.iafflocal975.org/wp-content/uploads/2021/09/icon-1.png
END:VEVENT
BEGIN:VEVENT
DTSTART;VALUE=DATE:20270423
DTEND;VALUE=DATE:20270424
DTSTAMP:20260421T195045
CREATED:20251215T001211Z
LAST-MODIFIED:20251215T001211Z
UID:10002230-1808438400-1808524799@www.iafflocal975.org
SUMMARY:B Shift
DESCRIPTION:
URL:https://www.iafflocal975.org/event/b-shift/2027-04-23/
CATEGORIES:B Shift
ATTACH;FMTTYPE=image/png:https://www.iafflocal975.org/wp-content/uploads/2021/09/icon-1.png
END:VEVENT
BEGIN:VEVENT
DTSTART;VALUE=DATE:20270424
DTEND;VALUE=DATE:20270425
DTSTAMP:20260421T195045
CREATED:20251215T001313Z
LAST-MODIFIED:20251215T001313Z
UID:10002884-1808524800-1808611199@www.iafflocal975.org
SUMMARY:C Shift
DESCRIPTION:
URL:https://www.iafflocal975.org/event/c-shift/2027-04-24/
CATEGORIES:C Shift
ATTACH;FMTTYPE=image/png:https://www.iafflocal975.org/wp-content/uploads/2021/09/icon-1.png
END:VEVENT
BEGIN:VEVENT
DTSTART;VALUE=DATE:20270425
DTEND;VALUE=DATE:20270426
DTSTAMP:20260421T195045
CREATED:20251215T001405Z
LAST-MODIFIED:20251215T001405Z
UID:10003538-1808611200-1808697599@www.iafflocal975.org
SUMMARY:A Shift
DESCRIPTION:
URL:https://www.iafflocal975.org/event/a-shift/2027-04-25/
CATEGORIES:A Shift
ATTACH;FMTTYPE=image/png:https://www.iafflocal975.org/wp-content/uploads/2021/09/icon-1.png
END:VEVENT
BEGIN:VEVENT
DTSTART;VALUE=DATE:20270426
DTEND;VALUE=DATE:20270427
DTSTAMP:20260421T195045
CREATED:20251215T001211Z
LAST-MODIFIED:20251215T001211Z
UID:10002231-1808697600-1808783999@www.iafflocal975.org
SUMMARY:B Shift
DESCRIPTION:
URL:https://www.iafflocal975.org/event/b-shift/2027-04-26/
CATEGORIES:B Shift
ATTACH;FMTTYPE=image/png:https://www.iafflocal975.org/wp-content/uploads/2021/09/icon-1.png
END:VEVENT
BEGIN:VEVENT
DTSTART;VALUE=DATE:20270427
DTEND;VALUE=DATE:20270428
DTSTAMP:20260421T195045
CREATED:20251215T001313Z
LAST-MODIFIED:20251215T001313Z
UID:10002885-1808784000-1808870399@www.iafflocal975.org
SUMMARY:C Shift
DESCRIPTION:
URL:https://www.iafflocal975.org/event/c-shift/2027-04-27/
CATEGORIES:C Shift
ATTACH;FMTTYPE=image/png:https://www.iafflocal975.org/wp-content/uploads/2021/09/icon-1.png
END:VEVENT
BEGIN:VEVENT
DTSTART;VALUE=DATE:20270428
DTEND;VALUE=DATE:20270429
DTSTAMP:20260421T195045
CREATED:20251215T001405Z
LAST-MODIFIED:20251215T001405Z
UID:10003539-1808870400-1808956799@www.iafflocal975.org
SUMMARY:A Shift
DESCRIPTION:
URL:https://www.iafflocal975.org/event/a-shift/2027-04-28/
CATEGORIES:A Shift
ATTACH;FMTTYPE=image/png:https://www.iafflocal975.org/wp-content/uploads/2021/09/icon-1.png
END:VEVENT
BEGIN:VEVENT
DTSTART;VALUE=DATE:20270429
DTEND;VALUE=DATE:20270430
DTSTAMP:20260421T195045
CREATED:20251215T001211Z
LAST-MODIFIED:20251215T001211Z
UID:10002232-1808956800-1809043199@www.iafflocal975.org
SUMMARY:B Shift
DESCRIPTION:
URL:https://www.iafflocal975.org/event/b-shift/2027-04-29/
CATEGORIES:B Shift
ATTACH;FMTTYPE=image/png:https://www.iafflocal975.org/wp-content/uploads/2021/09/icon-1.png
END:VEVENT
BEGIN:VEVENT
DTSTART;VALUE=DATE:20270430
DTEND;VALUE=DATE:20270501
DTSTAMP:20260421T195045
CREATED:20251215T001313Z
LAST-MODIFIED:20251215T001313Z
UID:10002886-1809043200-1809129599@www.iafflocal975.org
SUMMARY:C Shift
DESCRIPTION:
URL:https://www.iafflocal975.org/event/c-shift/2027-04-30/
CATEGORIES:C Shift
ATTACH;FMTTYPE=image/png:https://www.iafflocal975.org/wp-content/uploads/2021/09/icon-1.png
END:VEVENT
BEGIN:VEVENT
DTSTART;VALUE=DATE:20270501
DTEND;VALUE=DATE:20270502
DTSTAMP:20260421T195045
CREATED:20251215T001405Z
LAST-MODIFIED:20251215T001405Z
UID:10003540-1809129600-1809215999@www.iafflocal975.org
SUMMARY:A Shift
DESCRIPTION:
URL:https://www.iafflocal975.org/event/a-shift/2027-05-01/
CATEGORIES:A Shift
ATTACH;FMTTYPE=image/png:https://www.iafflocal975.org/wp-content/uploads/2021/09/icon-1.png
END:VEVENT
BEGIN:VEVENT
DTSTART;VALUE=DATE:20270502
DTEND;VALUE=DATE:20270503
DTSTAMP:20260421T195045
CREATED:20251215T001211Z
LAST-MODIFIED:20251215T001211Z
UID:10002233-1809216000-1809302399@www.iafflocal975.org
SUMMARY:B Shift
DESCRIPTION:
URL:https://www.iafflocal975.org/event/b-shift/2027-05-02/
CATEGORIES:B Shift
ATTACH;FMTTYPE=image/png:https://www.iafflocal975.org/wp-content/uploads/2021/09/icon-1.png
END:VEVENT
BEGIN:VEVENT
DTSTART;VALUE=DATE:20270503
DTEND;VALUE=DATE:20270504
DTSTAMP:20260421T195045
CREATED:20251215T001313Z
LAST-MODIFIED:20251215T001313Z
UID:10002887-1809302400-1809388799@www.iafflocal975.org
SUMMARY:C Shift
DESCRIPTION:
URL:https://www.iafflocal975.org/event/c-shift/2027-05-03/
CATEGORIES:C Shift
ATTACH;FMTTYPE=image/png:https://www.iafflocal975.org/wp-content/uploads/2021/09/icon-1.png
END:VEVENT
BEGIN:VEVENT
DTSTART;VALUE=DATE:20270504
DTEND;VALUE=DATE:20270505
DTSTAMP:20260421T195045
CREATED:20251215T001405Z
LAST-MODIFIED:20251215T001405Z
UID:10003541-1809388800-1809475199@www.iafflocal975.org
SUMMARY:A Shift
DESCRIPTION:
URL:https://www.iafflocal975.org/event/a-shift/2027-05-04/
CATEGORIES:A Shift
ATTACH;FMTTYPE=image/png:https://www.iafflocal975.org/wp-content/uploads/2021/09/icon-1.png
END:VEVENT
BEGIN:VEVENT
DTSTART;VALUE=DATE:20270505
DTEND;VALUE=DATE:20270506
DTSTAMP:20260421T195045
CREATED:20251215T001211Z
LAST-MODIFIED:20251215T001211Z
UID:10002234-1809475200-1809561599@www.iafflocal975.org
SUMMARY:B Shift
DESCRIPTION:
URL:https://www.iafflocal975.org/event/b-shift/2027-05-05/
CATEGORIES:B Shift
ATTACH;FMTTYPE=image/png:https://www.iafflocal975.org/wp-content/uploads/2021/09/icon-1.png
END:VEVENT
BEGIN:VEVENT
DTSTART;VALUE=DATE:20270506
DTEND;VALUE=DATE:20270507
DTSTAMP:20260421T195045
CREATED:20251215T001313Z
LAST-MODIFIED:20251215T001313Z
UID:10002888-1809561600-1809647999@www.iafflocal975.org
SUMMARY:C Shift
DESCRIPTION:
URL:https://www.iafflocal975.org/event/c-shift/2027-05-06/
CATEGORIES:C Shift
ATTACH;FMTTYPE=image/png:https://www.iafflocal975.org/wp-content/uploads/2021/09/icon-1.png
END:VEVENT
BEGIN:VEVENT
DTSTART;VALUE=DATE:20270507
DTEND;VALUE=DATE:20270508
DTSTAMP:20260421T195045
CREATED:20251215T001405Z
LAST-MODIFIED:20251215T001405Z
UID:10003542-1809648000-1809734399@www.iafflocal975.org
SUMMARY:A Shift
DESCRIPTION:
URL:https://www.iafflocal975.org/event/a-shift/2027-05-07/
CATEGORIES:A Shift
ATTACH;FMTTYPE=image/png:https://www.iafflocal975.org/wp-content/uploads/2021/09/icon-1.png
END:VEVENT
BEGIN:VEVENT
DTSTART;VALUE=DATE:20270508
DTEND;VALUE=DATE:20270509
DTSTAMP:20260421T195045
CREATED:20251215T001211Z
LAST-MODIFIED:20251215T001211Z
UID:10002235-1809734400-1809820799@www.iafflocal975.org
SUMMARY:B Shift
DESCRIPTION:
URL:https://www.iafflocal975.org/event/b-shift/2027-05-08/
CATEGORIES:B Shift
ATTACH;FMTTYPE=image/png:https://www.iafflocal975.org/wp-content/uploads/2021/09/icon-1.png
END:VEVENT
BEGIN:VEVENT
DTSTART;VALUE=DATE:20270509
DTEND;VALUE=DATE:20270510
DTSTAMP:20260421T195045
CREATED:20251215T001313Z
LAST-MODIFIED:20251215T001313Z
UID:10002889-1809820800-1809907199@www.iafflocal975.org
SUMMARY:C Shift
DESCRIPTION:
URL:https://www.iafflocal975.org/event/c-shift/2027-05-09/
CATEGORIES:C Shift
ATTACH;FMTTYPE=image/png:https://www.iafflocal975.org/wp-content/uploads/2021/09/icon-1.png
END:VEVENT
BEGIN:VEVENT
DTSTART;VALUE=DATE:20270510
DTEND;VALUE=DATE:20270511
DTSTAMP:20260421T195045
CREATED:20251215T001405Z
LAST-MODIFIED:20251215T001405Z
UID:10003543-1809907200-1809993599@www.iafflocal975.org
SUMMARY:A Shift
DESCRIPTION:
URL:https://www.iafflocal975.org/event/a-shift/2027-05-10/
CATEGORIES:A Shift
ATTACH;FMTTYPE=image/png:https://www.iafflocal975.org/wp-content/uploads/2021/09/icon-1.png
END:VEVENT
BEGIN:VEVENT
DTSTART;VALUE=DATE:20270511
DTEND;VALUE=DATE:20270512
DTSTAMP:20260421T195045
CREATED:20251215T001211Z
LAST-MODIFIED:20251215T001211Z
UID:10002236-1809993600-1810079999@www.iafflocal975.org
SUMMARY:B Shift
DESCRIPTION:
URL:https://www.iafflocal975.org/event/b-shift/2027-05-11/
CATEGORIES:B Shift
ATTACH;FMTTYPE=image/png:https://www.iafflocal975.org/wp-content/uploads/2021/09/icon-1.png
END:VEVENT
BEGIN:VEVENT
DTSTART;TZID=America/Chicago:20270511T130000
DTEND;TZID=America/Chicago:20270511T130000
DTSTAMP:20260421T195045
CREATED:20251215T000942Z
LAST-MODIFIED:20251215T001003Z
UID:10001976-1810040400-1810040400@www.iafflocal975.org
SUMMARY:Membership Meeting
DESCRIPTION:Membership Meeting
URL:https://www.iafflocal975.org/event/membership-meeting/2027-05-11/
CATEGORIES:Union Meeting
ATTACH;FMTTYPE=image/png:https://www.iafflocal975.org/wp-content/uploads/2021/09/icon-1.png
END:VEVENT
BEGIN:VEVENT
DTSTART;VALUE=DATE:20270512
DTEND;VALUE=DATE:20270513
DTSTAMP:20260421T195045
CREATED:20251215T001313Z
LAST-MODIFIED:20251215T001313Z
UID:10002890-1810080000-1810166399@www.iafflocal975.org
SUMMARY:C Shift
DESCRIPTION:
URL:https://www.iafflocal975.org/event/c-shift/2027-05-12/
CATEGORIES:C Shift
ATTACH;FMTTYPE=image/png:https://www.iafflocal975.org/wp-content/uploads/2021/09/icon-1.png
END:VEVENT
BEGIN:VEVENT
DTSTART;VALUE=DATE:20270513
DTEND;VALUE=DATE:20270514
DTSTAMP:20260421T195045
CREATED:20251215T001405Z
LAST-MODIFIED:20251215T001405Z
UID:10003544-1810166400-1810252799@www.iafflocal975.org
SUMMARY:A Shift
DESCRIPTION:
URL:https://www.iafflocal975.org/event/a-shift/2027-05-13/
CATEGORIES:A Shift
ATTACH;FMTTYPE=image/png:https://www.iafflocal975.org/wp-content/uploads/2021/09/icon-1.png
END:VEVENT
BEGIN:VEVENT
DTSTART;VALUE=DATE:20270514
DTEND;VALUE=DATE:20270515
DTSTAMP:20260421T195045
CREATED:20251215T001211Z
LAST-MODIFIED:20251215T001211Z
UID:10002237-1810252800-1810339199@www.iafflocal975.org
SUMMARY:B Shift
DESCRIPTION:
URL:https://www.iafflocal975.org/event/b-shift/2027-05-14/
CATEGORIES:B Shift
ATTACH;FMTTYPE=image/png:https://www.iafflocal975.org/wp-content/uploads/2021/09/icon-1.png
END:VEVENT
BEGIN:VEVENT
DTSTART;VALUE=DATE:20270515
DTEND;VALUE=DATE:20270516
DTSTAMP:20260421T195045
CREATED:20251215T001313Z
LAST-MODIFIED:20251215T001313Z
UID:10002891-1810339200-1810425599@www.iafflocal975.org
SUMMARY:C Shift
DESCRIPTION:
URL:https://www.iafflocal975.org/event/c-shift/2027-05-15/
CATEGORIES:C Shift
ATTACH;FMTTYPE=image/png:https://www.iafflocal975.org/wp-content/uploads/2021/09/icon-1.png
END:VEVENT
BEGIN:VEVENT
DTSTART;VALUE=DATE:20270516
DTEND;VALUE=DATE:20270517
DTSTAMP:20260421T195045
CREATED:20251215T001405Z
LAST-MODIFIED:20251215T001405Z
UID:10003545-1810425600-1810511999@www.iafflocal975.org
SUMMARY:A Shift
DESCRIPTION:
URL:https://www.iafflocal975.org/event/a-shift/2027-05-16/
CATEGORIES:A Shift
ATTACH;FMTTYPE=image/png:https://www.iafflocal975.org/wp-content/uploads/2021/09/icon-1.png
END:VEVENT
BEGIN:VEVENT
DTSTART;VALUE=DATE:20270517
DTEND;VALUE=DATE:20270518
DTSTAMP:20260421T195045
CREATED:20251215T001211Z
LAST-MODIFIED:20251215T001211Z
UID:10002238-1810512000-1810598399@www.iafflocal975.org
SUMMARY:B Shift
DESCRIPTION:
URL:https://www.iafflocal975.org/event/b-shift/2027-05-17/
CATEGORIES:B Shift
ATTACH;FMTTYPE=image/png:https://www.iafflocal975.org/wp-content/uploads/2021/09/icon-1.png
END:VEVENT
BEGIN:VEVENT
DTSTART;VALUE=DATE:20270518
DTEND;VALUE=DATE:20270519
DTSTAMP:20260421T195045
CREATED:20251215T001313Z
LAST-MODIFIED:20251215T001313Z
UID:10002892-1810598400-1810684799@www.iafflocal975.org
SUMMARY:C Shift
DESCRIPTION:
URL:https://www.iafflocal975.org/event/c-shift/2027-05-18/
CATEGORIES:C Shift
ATTACH;FMTTYPE=image/png:https://www.iafflocal975.org/wp-content/uploads/2021/09/icon-1.png
END:VEVENT
BEGIN:VEVENT
DTSTART;VALUE=DATE:20270519
DTEND;VALUE=DATE:20270520
DTSTAMP:20260421T195045
CREATED:20251215T001405Z
LAST-MODIFIED:20251215T001405Z
UID:10003546-1810684800-1810771199@www.iafflocal975.org
SUMMARY:A Shift
DESCRIPTION:
URL:https://www.iafflocal975.org/event/a-shift/2027-05-19/
CATEGORIES:A Shift
ATTACH;FMTTYPE=image/png:https://www.iafflocal975.org/wp-content/uploads/2021/09/icon-1.png
END:VEVENT
END:VCALENDAR