BEGIN:VCALENDAR
VERSION:2.0
PRODID:-//Austin Firefighters Association - ECPv6.15.20//NONSGML v1.0//EN
CALSCALE:GREGORIAN
METHOD:PUBLISH
X-WR-CALNAME:Austin Firefighters Association
X-ORIGINAL-URL:https://www.iafflocal975.org
X-WR-CALDESC:Events for Austin Firefighters Association
REFRESH-INTERVAL;VALUE=DURATION:PT1H
X-Robots-Tag:noindex
X-PUBLISHED-TTL:PT1H
BEGIN:VTIMEZONE
TZID:America/Chicago
BEGIN:DAYLIGHT
TZOFFSETFROM:-0600
TZOFFSETTO:-0500
TZNAME:CDT
DTSTART:20250309T080000
END:DAYLIGHT
BEGIN:STANDARD
TZOFFSETFROM:-0500
TZOFFSETTO:-0600
TZNAME:CST
DTSTART:20251102T070000
END:STANDARD
BEGIN:DAYLIGHT
TZOFFSETFROM:-0600
TZOFFSETTO:-0500
TZNAME:CDT
DTSTART:20260308T080000
END:DAYLIGHT
BEGIN:STANDARD
TZOFFSETFROM:-0500
TZOFFSETTO:-0600
TZNAME:CST
DTSTART:20261101T070000
END:STANDARD
BEGIN:DAYLIGHT
TZOFFSETFROM:-0600
TZOFFSETTO:-0500
TZNAME:CDT
DTSTART:20270314T080000
END:DAYLIGHT
BEGIN:STANDARD
TZOFFSETFROM:-0500
TZOFFSETTO:-0600
TZNAME:CST
DTSTART:20271107T070000
END:STANDARD
END:VTIMEZONE
BEGIN:VEVENT
DTSTART;VALUE=DATE:20260528
DTEND;VALUE=DATE:20260529
DTSTAMP:20260420T110749
CREATED:20251215T001211Z
LAST-MODIFIED:20251215T001211Z
UID:10002120-1779926400-1780012799@www.iafflocal975.org
SUMMARY:B Shift
DESCRIPTION:
URL:https://www.iafflocal975.org/event/b-shift/2026-05-28/
CATEGORIES:B Shift
ATTACH;FMTTYPE=image/png:https://www.iafflocal975.org/wp-content/uploads/2021/09/icon-1.png
END:VEVENT
BEGIN:VEVENT
DTSTART;VALUE=DATE:20260531
DTEND;VALUE=DATE:20260601
DTSTAMP:20260420T110749
CREATED:20251215T001211Z
LAST-MODIFIED:20251215T001211Z
UID:10002121-1780185600-1780271999@www.iafflocal975.org
SUMMARY:B Shift
DESCRIPTION:
URL:https://www.iafflocal975.org/event/b-shift/2026-05-31/
CATEGORIES:B Shift
ATTACH;FMTTYPE=image/png:https://www.iafflocal975.org/wp-content/uploads/2021/09/icon-1.png
END:VEVENT
BEGIN:VEVENT
DTSTART;VALUE=DATE:20260603
DTEND;VALUE=DATE:20260604
DTSTAMP:20260420T110749
CREATED:20251215T001211Z
LAST-MODIFIED:20251215T001211Z
UID:10002122-1780444800-1780531199@www.iafflocal975.org
SUMMARY:B Shift
DESCRIPTION:
URL:https://www.iafflocal975.org/event/b-shift/2026-06-03/
CATEGORIES:B Shift
ATTACH;FMTTYPE=image/png:https://www.iafflocal975.org/wp-content/uploads/2021/09/icon-1.png
END:VEVENT
BEGIN:VEVENT
DTSTART;VALUE=DATE:20260606
DTEND;VALUE=DATE:20260607
DTSTAMP:20260420T110749
CREATED:20251215T001211Z
LAST-MODIFIED:20251215T001211Z
UID:10002123-1780704000-1780790399@www.iafflocal975.org
SUMMARY:B Shift
DESCRIPTION:
URL:https://www.iafflocal975.org/event/b-shift/2026-06-06/
CATEGORIES:B Shift
ATTACH;FMTTYPE=image/png:https://www.iafflocal975.org/wp-content/uploads/2021/09/icon-1.png
END:VEVENT
BEGIN:VEVENT
DTSTART;VALUE=DATE:20260609
DTEND;VALUE=DATE:20260610
DTSTAMP:20260420T110749
CREATED:20251215T001211Z
LAST-MODIFIED:20251215T001211Z
UID:10002124-1780963200-1781049599@www.iafflocal975.org
SUMMARY:B Shift
DESCRIPTION:
URL:https://www.iafflocal975.org/event/b-shift/2026-06-09/
CATEGORIES:B Shift
ATTACH;FMTTYPE=image/png:https://www.iafflocal975.org/wp-content/uploads/2021/09/icon-1.png
END:VEVENT
BEGIN:VEVENT
DTSTART;VALUE=DATE:20260612
DTEND;VALUE=DATE:20260613
DTSTAMP:20260420T110749
CREATED:20251215T001211Z
LAST-MODIFIED:20251215T001211Z
UID:10002125-1781222400-1781308799@www.iafflocal975.org
SUMMARY:B Shift
DESCRIPTION:
URL:https://www.iafflocal975.org/event/b-shift/2026-06-12/
CATEGORIES:B Shift
ATTACH;FMTTYPE=image/png:https://www.iafflocal975.org/wp-content/uploads/2021/09/icon-1.png
END:VEVENT
BEGIN:VEVENT
DTSTART;VALUE=DATE:20260615
DTEND;VALUE=DATE:20260616
DTSTAMP:20260420T110749
CREATED:20251215T001211Z
LAST-MODIFIED:20251215T001211Z
UID:10002126-1781481600-1781567999@www.iafflocal975.org
SUMMARY:B Shift
DESCRIPTION:
URL:https://www.iafflocal975.org/event/b-shift/2026-06-15/
CATEGORIES:B Shift
ATTACH;FMTTYPE=image/png:https://www.iafflocal975.org/wp-content/uploads/2021/09/icon-1.png
END:VEVENT
BEGIN:VEVENT
DTSTART;VALUE=DATE:20260618
DTEND;VALUE=DATE:20260619
DTSTAMP:20260420T110749
CREATED:20251215T001211Z
LAST-MODIFIED:20251215T001211Z
UID:10002127-1781740800-1781827199@www.iafflocal975.org
SUMMARY:B Shift
DESCRIPTION:
URL:https://www.iafflocal975.org/event/b-shift/2026-06-18/
CATEGORIES:B Shift
ATTACH;FMTTYPE=image/png:https://www.iafflocal975.org/wp-content/uploads/2021/09/icon-1.png
END:VEVENT
BEGIN:VEVENT
DTSTART;VALUE=DATE:20260621
DTEND;VALUE=DATE:20260622
DTSTAMP:20260420T110749
CREATED:20251215T001211Z
LAST-MODIFIED:20251215T001211Z
UID:10002128-1782000000-1782086399@www.iafflocal975.org
SUMMARY:B Shift
DESCRIPTION:
URL:https://www.iafflocal975.org/event/b-shift/2026-06-21/
CATEGORIES:B Shift
ATTACH;FMTTYPE=image/png:https://www.iafflocal975.org/wp-content/uploads/2021/09/icon-1.png
END:VEVENT
BEGIN:VEVENT
DTSTART;VALUE=DATE:20260624
DTEND;VALUE=DATE:20260625
DTSTAMP:20260420T110749
CREATED:20251215T001211Z
LAST-MODIFIED:20251215T001211Z
UID:10002129-1782259200-1782345599@www.iafflocal975.org
SUMMARY:B Shift
DESCRIPTION:
URL:https://www.iafflocal975.org/event/b-shift/2026-06-24/
CATEGORIES:B Shift
ATTACH;FMTTYPE=image/png:https://www.iafflocal975.org/wp-content/uploads/2021/09/icon-1.png
END:VEVENT
BEGIN:VEVENT
DTSTART;VALUE=DATE:20260627
DTEND;VALUE=DATE:20260628
DTSTAMP:20260420T110749
CREATED:20251215T001211Z
LAST-MODIFIED:20251215T001211Z
UID:10002130-1782518400-1782604799@www.iafflocal975.org
SUMMARY:B Shift
DESCRIPTION:
URL:https://www.iafflocal975.org/event/b-shift/2026-06-27/
CATEGORIES:B Shift
ATTACH;FMTTYPE=image/png:https://www.iafflocal975.org/wp-content/uploads/2021/09/icon-1.png
END:VEVENT
BEGIN:VEVENT
DTSTART;VALUE=DATE:20260630
DTEND;VALUE=DATE:20260701
DTSTAMP:20260420T110749
CREATED:20251215T001211Z
LAST-MODIFIED:20251215T001211Z
UID:10002131-1782777600-1782863999@www.iafflocal975.org
SUMMARY:B Shift
DESCRIPTION:
URL:https://www.iafflocal975.org/event/b-shift/2026-06-30/
CATEGORIES:B Shift
ATTACH;FMTTYPE=image/png:https://www.iafflocal975.org/wp-content/uploads/2021/09/icon-1.png
END:VEVENT
BEGIN:VEVENT
DTSTART;VALUE=DATE:20260703
DTEND;VALUE=DATE:20260704
DTSTAMP:20260420T110749
CREATED:20251215T001211Z
LAST-MODIFIED:20251215T001211Z
UID:10002132-1783036800-1783123199@www.iafflocal975.org
SUMMARY:B Shift
DESCRIPTION:
URL:https://www.iafflocal975.org/event/b-shift/2026-07-03/
CATEGORIES:B Shift
ATTACH;FMTTYPE=image/png:https://www.iafflocal975.org/wp-content/uploads/2021/09/icon-1.png
END:VEVENT
BEGIN:VEVENT
DTSTART;VALUE=DATE:20260706
DTEND;VALUE=DATE:20260707
DTSTAMP:20260420T110749
CREATED:20251215T001211Z
LAST-MODIFIED:20251215T001211Z
UID:10002133-1783296000-1783382399@www.iafflocal975.org
SUMMARY:B Shift
DESCRIPTION:
URL:https://www.iafflocal975.org/event/b-shift/2026-07-06/
CATEGORIES:B Shift
ATTACH;FMTTYPE=image/png:https://www.iafflocal975.org/wp-content/uploads/2021/09/icon-1.png
END:VEVENT
BEGIN:VEVENT
DTSTART;VALUE=DATE:20260709
DTEND;VALUE=DATE:20260710
DTSTAMP:20260420T110749
CREATED:20251215T001211Z
LAST-MODIFIED:20251215T001211Z
UID:10002134-1783555200-1783641599@www.iafflocal975.org
SUMMARY:B Shift
DESCRIPTION:
URL:https://www.iafflocal975.org/event/b-shift/2026-07-09/
CATEGORIES:B Shift
ATTACH;FMTTYPE=image/png:https://www.iafflocal975.org/wp-content/uploads/2021/09/icon-1.png
END:VEVENT
BEGIN:VEVENT
DTSTART;VALUE=DATE:20260712
DTEND;VALUE=DATE:20260713
DTSTAMP:20260420T110749
CREATED:20251215T001211Z
LAST-MODIFIED:20251215T001211Z
UID:10002135-1783814400-1783900799@www.iafflocal975.org
SUMMARY:B Shift
DESCRIPTION:
URL:https://www.iafflocal975.org/event/b-shift/2026-07-12/
CATEGORIES:B Shift
ATTACH;FMTTYPE=image/png:https://www.iafflocal975.org/wp-content/uploads/2021/09/icon-1.png
END:VEVENT
BEGIN:VEVENT
DTSTART;VALUE=DATE:20260715
DTEND;VALUE=DATE:20260716
DTSTAMP:20260420T110749
CREATED:20251215T001211Z
LAST-MODIFIED:20251215T001211Z
UID:10002136-1784073600-1784159999@www.iafflocal975.org
SUMMARY:B Shift
DESCRIPTION:
URL:https://www.iafflocal975.org/event/b-shift/2026-07-15/
CATEGORIES:B Shift
ATTACH;FMTTYPE=image/png:https://www.iafflocal975.org/wp-content/uploads/2021/09/icon-1.png
END:VEVENT
BEGIN:VEVENT
DTSTART;VALUE=DATE:20260718
DTEND;VALUE=DATE:20260719
DTSTAMP:20260420T110749
CREATED:20251215T001211Z
LAST-MODIFIED:20251215T001211Z
UID:10002137-1784332800-1784419199@www.iafflocal975.org
SUMMARY:B Shift
DESCRIPTION:
URL:https://www.iafflocal975.org/event/b-shift/2026-07-18/
CATEGORIES:B Shift
ATTACH;FMTTYPE=image/png:https://www.iafflocal975.org/wp-content/uploads/2021/09/icon-1.png
END:VEVENT
BEGIN:VEVENT
DTSTART;VALUE=DATE:20260721
DTEND;VALUE=DATE:20260722
DTSTAMP:20260420T110749
CREATED:20251215T001211Z
LAST-MODIFIED:20251215T001211Z
UID:10002138-1784592000-1784678399@www.iafflocal975.org
SUMMARY:B Shift
DESCRIPTION:
URL:https://www.iafflocal975.org/event/b-shift/2026-07-21/
CATEGORIES:B Shift
ATTACH;FMTTYPE=image/png:https://www.iafflocal975.org/wp-content/uploads/2021/09/icon-1.png
END:VEVENT
BEGIN:VEVENT
DTSTART;VALUE=DATE:20260724
DTEND;VALUE=DATE:20260725
DTSTAMP:20260420T110749
CREATED:20251215T001211Z
LAST-MODIFIED:20251215T001211Z
UID:10002139-1784851200-1784937599@www.iafflocal975.org
SUMMARY:B Shift
DESCRIPTION:
URL:https://www.iafflocal975.org/event/b-shift/2026-07-24/
CATEGORIES:B Shift
ATTACH;FMTTYPE=image/png:https://www.iafflocal975.org/wp-content/uploads/2021/09/icon-1.png
END:VEVENT
BEGIN:VEVENT
DTSTART;VALUE=DATE:20260727
DTEND;VALUE=DATE:20260728
DTSTAMP:20260420T110749
CREATED:20251215T001211Z
LAST-MODIFIED:20251215T001211Z
UID:10002140-1785110400-1785196799@www.iafflocal975.org
SUMMARY:B Shift
DESCRIPTION:
URL:https://www.iafflocal975.org/event/b-shift/2026-07-27/
CATEGORIES:B Shift
ATTACH;FMTTYPE=image/png:https://www.iafflocal975.org/wp-content/uploads/2021/09/icon-1.png
END:VEVENT
BEGIN:VEVENT
DTSTART;VALUE=DATE:20260730
DTEND;VALUE=DATE:20260731
DTSTAMP:20260420T110749
CREATED:20251215T001211Z
LAST-MODIFIED:20251215T001211Z
UID:10002141-1785369600-1785455999@www.iafflocal975.org
SUMMARY:B Shift
DESCRIPTION:
URL:https://www.iafflocal975.org/event/b-shift/2026-07-30/
CATEGORIES:B Shift
ATTACH;FMTTYPE=image/png:https://www.iafflocal975.org/wp-content/uploads/2021/09/icon-1.png
END:VEVENT
BEGIN:VEVENT
DTSTART;VALUE=DATE:20260802
DTEND;VALUE=DATE:20260803
DTSTAMP:20260420T110749
CREATED:20251215T001211Z
LAST-MODIFIED:20251215T001211Z
UID:10002142-1785628800-1785715199@www.iafflocal975.org
SUMMARY:B Shift
DESCRIPTION:
URL:https://www.iafflocal975.org/event/b-shift/2026-08-02/
CATEGORIES:B Shift
ATTACH;FMTTYPE=image/png:https://www.iafflocal975.org/wp-content/uploads/2021/09/icon-1.png
END:VEVENT
BEGIN:VEVENT
DTSTART;VALUE=DATE:20260805
DTEND;VALUE=DATE:20260806
DTSTAMP:20260420T110749
CREATED:20251215T001211Z
LAST-MODIFIED:20251215T001211Z
UID:10002143-1785888000-1785974399@www.iafflocal975.org
SUMMARY:B Shift
DESCRIPTION:
URL:https://www.iafflocal975.org/event/b-shift/2026-08-05/
CATEGORIES:B Shift
ATTACH;FMTTYPE=image/png:https://www.iafflocal975.org/wp-content/uploads/2021/09/icon-1.png
END:VEVENT
BEGIN:VEVENT
DTSTART;VALUE=DATE:20260808
DTEND;VALUE=DATE:20260809
DTSTAMP:20260420T110749
CREATED:20251215T001211Z
LAST-MODIFIED:20251215T001211Z
UID:10002144-1786147200-1786233599@www.iafflocal975.org
SUMMARY:B Shift
DESCRIPTION:
URL:https://www.iafflocal975.org/event/b-shift/2026-08-08/
CATEGORIES:B Shift
ATTACH;FMTTYPE=image/png:https://www.iafflocal975.org/wp-content/uploads/2021/09/icon-1.png
END:VEVENT
BEGIN:VEVENT
DTSTART;VALUE=DATE:20260811
DTEND;VALUE=DATE:20260812
DTSTAMP:20260420T110749
CREATED:20251215T001211Z
LAST-MODIFIED:20251215T001211Z
UID:10002145-1786406400-1786492799@www.iafflocal975.org
SUMMARY:B Shift
DESCRIPTION:
URL:https://www.iafflocal975.org/event/b-shift/2026-08-11/
CATEGORIES:B Shift
ATTACH;FMTTYPE=image/png:https://www.iafflocal975.org/wp-content/uploads/2021/09/icon-1.png
END:VEVENT
BEGIN:VEVENT
DTSTART;VALUE=DATE:20260814
DTEND;VALUE=DATE:20260815
DTSTAMP:20260420T110749
CREATED:20251215T001211Z
LAST-MODIFIED:20251215T001211Z
UID:10002146-1786665600-1786751999@www.iafflocal975.org
SUMMARY:B Shift
DESCRIPTION:
URL:https://www.iafflocal975.org/event/b-shift/2026-08-14/
CATEGORIES:B Shift
ATTACH;FMTTYPE=image/png:https://www.iafflocal975.org/wp-content/uploads/2021/09/icon-1.png
END:VEVENT
BEGIN:VEVENT
DTSTART;VALUE=DATE:20260817
DTEND;VALUE=DATE:20260818
DTSTAMP:20260420T110749
CREATED:20251215T001211Z
LAST-MODIFIED:20251215T001211Z
UID:10002147-1786924800-1787011199@www.iafflocal975.org
SUMMARY:B Shift
DESCRIPTION:
URL:https://www.iafflocal975.org/event/b-shift/2026-08-17/
CATEGORIES:B Shift
ATTACH;FMTTYPE=image/png:https://www.iafflocal975.org/wp-content/uploads/2021/09/icon-1.png
END:VEVENT
BEGIN:VEVENT
DTSTART;VALUE=DATE:20260820
DTEND;VALUE=DATE:20260821
DTSTAMP:20260420T110749
CREATED:20251215T001211Z
LAST-MODIFIED:20251215T001211Z
UID:10002148-1787184000-1787270399@www.iafflocal975.org
SUMMARY:B Shift
DESCRIPTION:
URL:https://www.iafflocal975.org/event/b-shift/2026-08-20/
CATEGORIES:B Shift
ATTACH;FMTTYPE=image/png:https://www.iafflocal975.org/wp-content/uploads/2021/09/icon-1.png
END:VEVENT
BEGIN:VEVENT
DTSTART;VALUE=DATE:20260823
DTEND;VALUE=DATE:20260824
DTSTAMP:20260420T110749
CREATED:20251215T001211Z
LAST-MODIFIED:20251215T001211Z
UID:10002149-1787443200-1787529599@www.iafflocal975.org
SUMMARY:B Shift
DESCRIPTION:
URL:https://www.iafflocal975.org/event/b-shift/2026-08-23/
CATEGORIES:B Shift
ATTACH;FMTTYPE=image/png:https://www.iafflocal975.org/wp-content/uploads/2021/09/icon-1.png
END:VEVENT
END:VCALENDAR