BEGIN:VCALENDAR
VERSION:2.0
PRODID:-//Austin Firefighters Association - ECPv6.15.20//NONSGML v1.0//EN
CALSCALE:GREGORIAN
METHOD:PUBLISH
X-ORIGINAL-URL:https://www.iafflocal975.org
X-WR-CALDESC:Events for Austin Firefighters Association
REFRESH-INTERVAL;VALUE=DURATION:PT1H
X-Robots-Tag:noindex
X-PUBLISHED-TTL:PT1H
BEGIN:VTIMEZONE
TZID:America/Chicago
BEGIN:DAYLIGHT
TZOFFSETFROM:-0600
TZOFFSETTO:-0500
TZNAME:CDT
DTSTART:20250309T080000
END:DAYLIGHT
BEGIN:STANDARD
TZOFFSETFROM:-0500
TZOFFSETTO:-0600
TZNAME:CST
DTSTART:20251102T070000
END:STANDARD
BEGIN:DAYLIGHT
TZOFFSETFROM:-0600
TZOFFSETTO:-0500
TZNAME:CDT
DTSTART:20260308T080000
END:DAYLIGHT
BEGIN:STANDARD
TZOFFSETFROM:-0500
TZOFFSETTO:-0600
TZNAME:CST
DTSTART:20261101T070000
END:STANDARD
BEGIN:DAYLIGHT
TZOFFSETFROM:-0600
TZOFFSETTO:-0500
TZNAME:CDT
DTSTART:20270314T080000
END:DAYLIGHT
BEGIN:STANDARD
TZOFFSETFROM:-0500
TZOFFSETTO:-0600
TZNAME:CST
DTSTART:20271107T070000
END:STANDARD
END:VTIMEZONE
BEGIN:VEVENT
DTSTART;VALUE=DATE:20261014
DTEND;VALUE=DATE:20261015
DTSTAMP:20260419T144917
CREATED:20251215T001313Z
LAST-MODIFIED:20251215T001313Z
UID:10002820-1791936000-1792022399@www.iafflocal975.org
SUMMARY:C Shift
DESCRIPTION:
URL:https://www.iafflocal975.org/event/c-shift/2026-10-14/
CATEGORIES:C Shift
ATTACH;FMTTYPE=image/png:https://www.iafflocal975.org/wp-content/uploads/2021/09/icon-1.png
END:VEVENT
BEGIN:VEVENT
DTSTART;VALUE=DATE:20261015
DTEND;VALUE=DATE:20261016
DTSTAMP:20260419T144917
CREATED:20251215T001405Z
LAST-MODIFIED:20251215T001405Z
UID:10003474-1792022400-1792108799@www.iafflocal975.org
SUMMARY:A Shift
DESCRIPTION:
URL:https://www.iafflocal975.org/event/a-shift/2026-10-15/
CATEGORIES:A Shift
ATTACH;FMTTYPE=image/png:https://www.iafflocal975.org/wp-content/uploads/2021/09/icon-1.png
END:VEVENT
BEGIN:VEVENT
DTSTART;VALUE=DATE:20261016
DTEND;VALUE=DATE:20261017
DTSTAMP:20260419T144917
CREATED:20251215T001211Z
LAST-MODIFIED:20251215T001211Z
UID:10002167-1792108800-1792195199@www.iafflocal975.org
SUMMARY:B Shift
DESCRIPTION:
URL:https://www.iafflocal975.org/event/b-shift/2026-10-16/
CATEGORIES:B Shift
ATTACH;FMTTYPE=image/png:https://www.iafflocal975.org/wp-content/uploads/2021/09/icon-1.png
END:VEVENT
BEGIN:VEVENT
DTSTART;VALUE=DATE:20261017
DTEND;VALUE=DATE:20261018
DTSTAMP:20260419T144917
CREATED:20251215T001313Z
LAST-MODIFIED:20251215T001313Z
UID:10002821-1792195200-1792281599@www.iafflocal975.org
SUMMARY:C Shift
DESCRIPTION:
URL:https://www.iafflocal975.org/event/c-shift/2026-10-17/
CATEGORIES:C Shift
ATTACH;FMTTYPE=image/png:https://www.iafflocal975.org/wp-content/uploads/2021/09/icon-1.png
END:VEVENT
BEGIN:VEVENT
DTSTART;VALUE=DATE:20261018
DTEND;VALUE=DATE:20261019
DTSTAMP:20260419T144917
CREATED:20251215T001405Z
LAST-MODIFIED:20251215T001405Z
UID:10003475-1792281600-1792367999@www.iafflocal975.org
SUMMARY:A Shift
DESCRIPTION:
URL:https://www.iafflocal975.org/event/a-shift/2026-10-18/
CATEGORIES:A Shift
ATTACH;FMTTYPE=image/png:https://www.iafflocal975.org/wp-content/uploads/2021/09/icon-1.png
END:VEVENT
BEGIN:VEVENT
DTSTART;VALUE=DATE:20261019
DTEND;VALUE=DATE:20261020
DTSTAMP:20260419T144917
CREATED:20251215T001211Z
LAST-MODIFIED:20251215T001211Z
UID:10002168-1792368000-1792454399@www.iafflocal975.org
SUMMARY:B Shift
DESCRIPTION:
URL:https://www.iafflocal975.org/event/b-shift/2026-10-19/
CATEGORIES:B Shift
ATTACH;FMTTYPE=image/png:https://www.iafflocal975.org/wp-content/uploads/2021/09/icon-1.png
END:VEVENT
BEGIN:VEVENT
DTSTART;VALUE=DATE:20261020
DTEND;VALUE=DATE:20261021
DTSTAMP:20260419T144917
CREATED:20251215T001313Z
LAST-MODIFIED:20251215T001313Z
UID:10002822-1792454400-1792540799@www.iafflocal975.org
SUMMARY:C Shift
DESCRIPTION:
URL:https://www.iafflocal975.org/event/c-shift/2026-10-20/
CATEGORIES:C Shift
ATTACH;FMTTYPE=image/png:https://www.iafflocal975.org/wp-content/uploads/2021/09/icon-1.png
END:VEVENT
BEGIN:VEVENT
DTSTART;VALUE=DATE:20261021
DTEND;VALUE=DATE:20261022
DTSTAMP:20260419T144917
CREATED:20251215T001405Z
LAST-MODIFIED:20251215T001405Z
UID:10003476-1792540800-1792627199@www.iafflocal975.org
SUMMARY:A Shift
DESCRIPTION:
URL:https://www.iafflocal975.org/event/a-shift/2026-10-21/
CATEGORIES:A Shift
ATTACH;FMTTYPE=image/png:https://www.iafflocal975.org/wp-content/uploads/2021/09/icon-1.png
END:VEVENT
BEGIN:VEVENT
DTSTART;VALUE=DATE:20261022
DTEND;VALUE=DATE:20261023
DTSTAMP:20260419T144917
CREATED:20251215T001211Z
LAST-MODIFIED:20251215T001211Z
UID:10002169-1792627200-1792713599@www.iafflocal975.org
SUMMARY:B Shift
DESCRIPTION:
URL:https://www.iafflocal975.org/event/b-shift/2026-10-22/
CATEGORIES:B Shift
ATTACH;FMTTYPE=image/png:https://www.iafflocal975.org/wp-content/uploads/2021/09/icon-1.png
END:VEVENT
BEGIN:VEVENT
DTSTART;VALUE=DATE:20261023
DTEND;VALUE=DATE:20261024
DTSTAMP:20260419T144917
CREATED:20251215T001313Z
LAST-MODIFIED:20251215T001313Z
UID:10002823-1792713600-1792799999@www.iafflocal975.org
SUMMARY:C Shift
DESCRIPTION:
URL:https://www.iafflocal975.org/event/c-shift/2026-10-23/
CATEGORIES:C Shift
ATTACH;FMTTYPE=image/png:https://www.iafflocal975.org/wp-content/uploads/2021/09/icon-1.png
END:VEVENT
BEGIN:VEVENT
DTSTART;VALUE=DATE:20261024
DTEND;VALUE=DATE:20261025
DTSTAMP:20260419T144917
CREATED:20251215T001405Z
LAST-MODIFIED:20251215T001405Z
UID:10003477-1792800000-1792886399@www.iafflocal975.org
SUMMARY:A Shift
DESCRIPTION:
URL:https://www.iafflocal975.org/event/a-shift/2026-10-24/
CATEGORIES:A Shift
ATTACH;FMTTYPE=image/png:https://www.iafflocal975.org/wp-content/uploads/2021/09/icon-1.png
END:VEVENT
BEGIN:VEVENT
DTSTART;VALUE=DATE:20261025
DTEND;VALUE=DATE:20261026
DTSTAMP:20260419T144917
CREATED:20251215T001211Z
LAST-MODIFIED:20251215T001211Z
UID:10002170-1792886400-1792972799@www.iafflocal975.org
SUMMARY:B Shift
DESCRIPTION:
URL:https://www.iafflocal975.org/event/b-shift/2026-10-25/
CATEGORIES:B Shift
ATTACH;FMTTYPE=image/png:https://www.iafflocal975.org/wp-content/uploads/2021/09/icon-1.png
END:VEVENT
BEGIN:VEVENT
DTSTART;VALUE=DATE:20261026
DTEND;VALUE=DATE:20261027
DTSTAMP:20260419T144917
CREATED:20251215T001313Z
LAST-MODIFIED:20251215T001313Z
UID:10002824-1792972800-1793059199@www.iafflocal975.org
SUMMARY:C Shift
DESCRIPTION:
URL:https://www.iafflocal975.org/event/c-shift/2026-10-26/
CATEGORIES:C Shift
ATTACH;FMTTYPE=image/png:https://www.iafflocal975.org/wp-content/uploads/2021/09/icon-1.png
END:VEVENT
BEGIN:VEVENT
DTSTART;VALUE=DATE:20261027
DTEND;VALUE=DATE:20261028
DTSTAMP:20260419T144917
CREATED:20251215T001405Z
LAST-MODIFIED:20251215T001405Z
UID:10003478-1793059200-1793145599@www.iafflocal975.org
SUMMARY:A Shift
DESCRIPTION:
URL:https://www.iafflocal975.org/event/a-shift/2026-10-27/
CATEGORIES:A Shift
ATTACH;FMTTYPE=image/png:https://www.iafflocal975.org/wp-content/uploads/2021/09/icon-1.png
END:VEVENT
BEGIN:VEVENT
DTSTART;VALUE=DATE:20261028
DTEND;VALUE=DATE:20261029
DTSTAMP:20260419T144917
CREATED:20251215T001211Z
LAST-MODIFIED:20251215T001211Z
UID:10002171-1793145600-1793231999@www.iafflocal975.org
SUMMARY:B Shift
DESCRIPTION:
URL:https://www.iafflocal975.org/event/b-shift/2026-10-28/
CATEGORIES:B Shift
ATTACH;FMTTYPE=image/png:https://www.iafflocal975.org/wp-content/uploads/2021/09/icon-1.png
END:VEVENT
BEGIN:VEVENT
DTSTART;VALUE=DATE:20261029
DTEND;VALUE=DATE:20261030
DTSTAMP:20260419T144917
CREATED:20251215T001313Z
LAST-MODIFIED:20251215T001313Z
UID:10002825-1793232000-1793318399@www.iafflocal975.org
SUMMARY:C Shift
DESCRIPTION:
URL:https://www.iafflocal975.org/event/c-shift/2026-10-29/
CATEGORIES:C Shift
ATTACH;FMTTYPE=image/png:https://www.iafflocal975.org/wp-content/uploads/2021/09/icon-1.png
END:VEVENT
BEGIN:VEVENT
DTSTART;VALUE=DATE:20261030
DTEND;VALUE=DATE:20261031
DTSTAMP:20260419T144917
CREATED:20251215T001405Z
LAST-MODIFIED:20251215T001405Z
UID:10003479-1793318400-1793404799@www.iafflocal975.org
SUMMARY:A Shift
DESCRIPTION:
URL:https://www.iafflocal975.org/event/a-shift/2026-10-30/
CATEGORIES:A Shift
ATTACH;FMTTYPE=image/png:https://www.iafflocal975.org/wp-content/uploads/2021/09/icon-1.png
END:VEVENT
BEGIN:VEVENT
DTSTART;VALUE=DATE:20261031
DTEND;VALUE=DATE:20261101
DTSTAMP:20260419T144917
CREATED:20251215T001211Z
LAST-MODIFIED:20251215T001211Z
UID:10002172-1793404800-1793491199@www.iafflocal975.org
SUMMARY:B Shift
DESCRIPTION:
URL:https://www.iafflocal975.org/event/b-shift/2026-10-31/
CATEGORIES:B Shift
ATTACH;FMTTYPE=image/png:https://www.iafflocal975.org/wp-content/uploads/2021/09/icon-1.png
END:VEVENT
BEGIN:VEVENT
DTSTART;VALUE=DATE:20261101
DTEND;VALUE=DATE:20261102
DTSTAMP:20260419T144917
CREATED:20251215T001313Z
LAST-MODIFIED:20251215T001313Z
UID:10002826-1793491200-1793573999@www.iafflocal975.org
SUMMARY:C Shift
DESCRIPTION:
URL:https://www.iafflocal975.org/event/c-shift/2026-11-01/
CATEGORIES:C Shift
ATTACH;FMTTYPE=image/png:https://www.iafflocal975.org/wp-content/uploads/2021/09/icon-1.png
END:VEVENT
BEGIN:VEVENT
DTSTART;VALUE=DATE:20261102
DTEND;VALUE=DATE:20261103
DTSTAMP:20260419T144917
CREATED:20251215T001405Z
LAST-MODIFIED:20251215T001405Z
UID:10003480-1793577600-1793663999@www.iafflocal975.org
SUMMARY:A Shift
DESCRIPTION:
URL:https://www.iafflocal975.org/event/a-shift/2026-11-02/
CATEGORIES:A Shift
ATTACH;FMTTYPE=image/png:https://www.iafflocal975.org/wp-content/uploads/2021/09/icon-1.png
END:VEVENT
BEGIN:VEVENT
DTSTART;VALUE=DATE:20261103
DTEND;VALUE=DATE:20261104
DTSTAMP:20260419T144917
CREATED:20251215T001211Z
LAST-MODIFIED:20251215T001211Z
UID:10002173-1793664000-1793750399@www.iafflocal975.org
SUMMARY:B Shift
DESCRIPTION:
URL:https://www.iafflocal975.org/event/b-shift/2026-11-03/
CATEGORIES:B Shift
ATTACH;FMTTYPE=image/png:https://www.iafflocal975.org/wp-content/uploads/2021/09/icon-1.png
END:VEVENT
BEGIN:VEVENT
DTSTART;VALUE=DATE:20261104
DTEND;VALUE=DATE:20261105
DTSTAMP:20260419T144917
CREATED:20251215T001313Z
LAST-MODIFIED:20251215T001313Z
UID:10002827-1793750400-1793836799@www.iafflocal975.org
SUMMARY:C Shift
DESCRIPTION:
URL:https://www.iafflocal975.org/event/c-shift/2026-11-04/
CATEGORIES:C Shift
ATTACH;FMTTYPE=image/png:https://www.iafflocal975.org/wp-content/uploads/2021/09/icon-1.png
END:VEVENT
BEGIN:VEVENT
DTSTART;VALUE=DATE:20261105
DTEND;VALUE=DATE:20261106
DTSTAMP:20260419T144917
CREATED:20251215T001405Z
LAST-MODIFIED:20251215T001405Z
UID:10003481-1793836800-1793923199@www.iafflocal975.org
SUMMARY:A Shift
DESCRIPTION:
URL:https://www.iafflocal975.org/event/a-shift/2026-11-05/
CATEGORIES:A Shift
ATTACH;FMTTYPE=image/png:https://www.iafflocal975.org/wp-content/uploads/2021/09/icon-1.png
END:VEVENT
BEGIN:VEVENT
DTSTART;VALUE=DATE:20261106
DTEND;VALUE=DATE:20261107
DTSTAMP:20260419T144917
CREATED:20251215T001211Z
LAST-MODIFIED:20251215T001211Z
UID:10002174-1793923200-1794009599@www.iafflocal975.org
SUMMARY:B Shift
DESCRIPTION:
URL:https://www.iafflocal975.org/event/b-shift/2026-11-06/
CATEGORIES:B Shift
ATTACH;FMTTYPE=image/png:https://www.iafflocal975.org/wp-content/uploads/2021/09/icon-1.png
END:VEVENT
BEGIN:VEVENT
DTSTART;VALUE=DATE:20261107
DTEND;VALUE=DATE:20261108
DTSTAMP:20260419T144917
CREATED:20251215T001313Z
LAST-MODIFIED:20251215T001313Z
UID:10002828-1794009600-1794095999@www.iafflocal975.org
SUMMARY:C Shift
DESCRIPTION:
URL:https://www.iafflocal975.org/event/c-shift/2026-11-07/
CATEGORIES:C Shift
ATTACH;FMTTYPE=image/png:https://www.iafflocal975.org/wp-content/uploads/2021/09/icon-1.png
END:VEVENT
BEGIN:VEVENT
DTSTART;VALUE=DATE:20261108
DTEND;VALUE=DATE:20261109
DTSTAMP:20260419T144917
CREATED:20251215T001405Z
LAST-MODIFIED:20251215T001405Z
UID:10003482-1794096000-1794182399@www.iafflocal975.org
SUMMARY:A Shift
DESCRIPTION:
URL:https://www.iafflocal975.org/event/a-shift/2026-11-08/
CATEGORIES:A Shift
ATTACH;FMTTYPE=image/png:https://www.iafflocal975.org/wp-content/uploads/2021/09/icon-1.png
END:VEVENT
BEGIN:VEVENT
DTSTART;VALUE=DATE:20261109
DTEND;VALUE=DATE:20261110
DTSTAMP:20260419T144917
CREATED:20251215T001211Z
LAST-MODIFIED:20251215T001211Z
UID:10002175-1794182400-1794268799@www.iafflocal975.org
SUMMARY:B Shift
DESCRIPTION:
URL:https://www.iafflocal975.org/event/b-shift/2026-11-09/
CATEGORIES:B Shift
ATTACH;FMTTYPE=image/png:https://www.iafflocal975.org/wp-content/uploads/2021/09/icon-1.png
END:VEVENT
BEGIN:VEVENT
DTSTART;VALUE=DATE:20261110
DTEND;VALUE=DATE:20261111
DTSTAMP:20260419T144917
CREATED:20251215T001313Z
LAST-MODIFIED:20251215T001313Z
UID:10002829-1794268800-1794355199@www.iafflocal975.org
SUMMARY:C Shift
DESCRIPTION:
URL:https://www.iafflocal975.org/event/c-shift/2026-11-10/
CATEGORIES:C Shift
ATTACH;FMTTYPE=image/png:https://www.iafflocal975.org/wp-content/uploads/2021/09/icon-1.png
END:VEVENT
BEGIN:VEVENT
DTSTART;TZID=America/Chicago:20261110T130000
DTEND;TZID=America/Chicago:20261110T130000
DTSTAMP:20260419T144917
CREATED:20251215T000942Z
LAST-MODIFIED:20251215T001003Z
UID:10001970-1794315600-1794315600@www.iafflocal975.org
SUMMARY:Membership Meeting
DESCRIPTION:Membership Meeting
URL:https://www.iafflocal975.org/event/membership-meeting/2026-11-10/
CATEGORIES:Union Meeting
ATTACH;FMTTYPE=image/png:https://www.iafflocal975.org/wp-content/uploads/2021/09/icon-1.png
END:VEVENT
BEGIN:VEVENT
DTSTART;VALUE=DATE:20261111
DTEND;VALUE=DATE:20261112
DTSTAMP:20260419T144917
CREATED:20251215T001405Z
LAST-MODIFIED:20251215T001405Z
UID:10003483-1794355200-1794441599@www.iafflocal975.org
SUMMARY:A Shift
DESCRIPTION:
URL:https://www.iafflocal975.org/event/a-shift/2026-11-11/
CATEGORIES:A Shift
ATTACH;FMTTYPE=image/png:https://www.iafflocal975.org/wp-content/uploads/2021/09/icon-1.png
END:VEVENT
END:VCALENDAR