BEGIN:VCALENDAR
VERSION:2.0
PRODID:-//Austin Firefighters Association - ECPv6.15.20//NONSGML v1.0//EN
CALSCALE:GREGORIAN
METHOD:PUBLISH
X-WR-CALNAME:Austin Firefighters Association
X-ORIGINAL-URL:https://www.iafflocal975.org
X-WR-CALDESC:Events for Austin Firefighters Association
REFRESH-INTERVAL;VALUE=DURATION:PT1H
X-Robots-Tag:noindex
X-PUBLISHED-TTL:PT1H
BEGIN:VTIMEZONE
TZID:America/Chicago
BEGIN:DAYLIGHT
TZOFFSETFROM:-0600
TZOFFSETTO:-0500
TZNAME:CDT
DTSTART:20250309T080000
END:DAYLIGHT
BEGIN:STANDARD
TZOFFSETFROM:-0500
TZOFFSETTO:-0600
TZNAME:CST
DTSTART:20251102T070000
END:STANDARD
BEGIN:DAYLIGHT
TZOFFSETFROM:-0600
TZOFFSETTO:-0500
TZNAME:CDT
DTSTART:20260308T080000
END:DAYLIGHT
BEGIN:STANDARD
TZOFFSETFROM:-0500
TZOFFSETTO:-0600
TZNAME:CST
DTSTART:20261101T070000
END:STANDARD
BEGIN:DAYLIGHT
TZOFFSETFROM:-0600
TZOFFSETTO:-0500
TZNAME:CDT
DTSTART:20270314T080000
END:DAYLIGHT
BEGIN:STANDARD
TZOFFSETFROM:-0500
TZOFFSETTO:-0600
TZNAME:CST
DTSTART:20271107T070000
END:STANDARD
END:VTIMEZONE
BEGIN:VEVENT
DTSTART;VALUE=DATE:20260913
DTEND;VALUE=DATE:20260914
DTSTAMP:20260421T005228
CREATED:20251215T001211Z
LAST-MODIFIED:20251215T001211Z
UID:10002156-1789257600-1789343999@www.iafflocal975.org
SUMMARY:B Shift
DESCRIPTION:
URL:https://www.iafflocal975.org/event/b-shift/2026-09-13/
CATEGORIES:B Shift
ATTACH;FMTTYPE=image/png:https://www.iafflocal975.org/wp-content/uploads/2021/09/icon-1.png
END:VEVENT
BEGIN:VEVENT
DTSTART;VALUE=DATE:20260916
DTEND;VALUE=DATE:20260917
DTSTAMP:20260421T005228
CREATED:20251215T001211Z
LAST-MODIFIED:20251215T001211Z
UID:10002157-1789516800-1789603199@www.iafflocal975.org
SUMMARY:B Shift
DESCRIPTION:
URL:https://www.iafflocal975.org/event/b-shift/2026-09-16/
CATEGORIES:B Shift
ATTACH;FMTTYPE=image/png:https://www.iafflocal975.org/wp-content/uploads/2021/09/icon-1.png
END:VEVENT
BEGIN:VEVENT
DTSTART;VALUE=DATE:20260919
DTEND;VALUE=DATE:20260920
DTSTAMP:20260421T005228
CREATED:20251215T001211Z
LAST-MODIFIED:20251215T001211Z
UID:10002158-1789776000-1789862399@www.iafflocal975.org
SUMMARY:B Shift
DESCRIPTION:
URL:https://www.iafflocal975.org/event/b-shift/2026-09-19/
CATEGORIES:B Shift
ATTACH;FMTTYPE=image/png:https://www.iafflocal975.org/wp-content/uploads/2021/09/icon-1.png
END:VEVENT
BEGIN:VEVENT
DTSTART;VALUE=DATE:20260922
DTEND;VALUE=DATE:20260923
DTSTAMP:20260421T005228
CREATED:20251215T001211Z
LAST-MODIFIED:20251215T001211Z
UID:10002159-1790035200-1790121599@www.iafflocal975.org
SUMMARY:B Shift
DESCRIPTION:
URL:https://www.iafflocal975.org/event/b-shift/2026-09-22/
CATEGORIES:B Shift
ATTACH;FMTTYPE=image/png:https://www.iafflocal975.org/wp-content/uploads/2021/09/icon-1.png
END:VEVENT
BEGIN:VEVENT
DTSTART;VALUE=DATE:20260925
DTEND;VALUE=DATE:20260926
DTSTAMP:20260421T005228
CREATED:20251215T001211Z
LAST-MODIFIED:20251215T001211Z
UID:10002160-1790294400-1790380799@www.iafflocal975.org
SUMMARY:B Shift
DESCRIPTION:
URL:https://www.iafflocal975.org/event/b-shift/2026-09-25/
CATEGORIES:B Shift
ATTACH;FMTTYPE=image/png:https://www.iafflocal975.org/wp-content/uploads/2021/09/icon-1.png
END:VEVENT
BEGIN:VEVENT
DTSTART;VALUE=DATE:20260928
DTEND;VALUE=DATE:20260929
DTSTAMP:20260421T005228
CREATED:20251215T001211Z
LAST-MODIFIED:20251215T001211Z
UID:10002161-1790553600-1790639999@www.iafflocal975.org
SUMMARY:B Shift
DESCRIPTION:
URL:https://www.iafflocal975.org/event/b-shift/2026-09-28/
CATEGORIES:B Shift
ATTACH;FMTTYPE=image/png:https://www.iafflocal975.org/wp-content/uploads/2021/09/icon-1.png
END:VEVENT
BEGIN:VEVENT
DTSTART;VALUE=DATE:20261001
DTEND;VALUE=DATE:20261002
DTSTAMP:20260421T005228
CREATED:20251215T001211Z
LAST-MODIFIED:20251215T001211Z
UID:10002162-1790812800-1790899199@www.iafflocal975.org
SUMMARY:B Shift
DESCRIPTION:
URL:https://www.iafflocal975.org/event/b-shift/2026-10-01/
CATEGORIES:B Shift
ATTACH;FMTTYPE=image/png:https://www.iafflocal975.org/wp-content/uploads/2021/09/icon-1.png
END:VEVENT
BEGIN:VEVENT
DTSTART;VALUE=DATE:20261004
DTEND;VALUE=DATE:20261005
DTSTAMP:20260421T005228
CREATED:20251215T001211Z
LAST-MODIFIED:20251215T001211Z
UID:10002163-1791072000-1791158399@www.iafflocal975.org
SUMMARY:B Shift
DESCRIPTION:
URL:https://www.iafflocal975.org/event/b-shift/2026-10-04/
CATEGORIES:B Shift
ATTACH;FMTTYPE=image/png:https://www.iafflocal975.org/wp-content/uploads/2021/09/icon-1.png
END:VEVENT
BEGIN:VEVENT
DTSTART;VALUE=DATE:20261007
DTEND;VALUE=DATE:20261008
DTSTAMP:20260421T005228
CREATED:20251215T001211Z
LAST-MODIFIED:20251215T001211Z
UID:10002164-1791331200-1791417599@www.iafflocal975.org
SUMMARY:B Shift
DESCRIPTION:
URL:https://www.iafflocal975.org/event/b-shift/2026-10-07/
CATEGORIES:B Shift
ATTACH;FMTTYPE=image/png:https://www.iafflocal975.org/wp-content/uploads/2021/09/icon-1.png
END:VEVENT
BEGIN:VEVENT
DTSTART;VALUE=DATE:20261010
DTEND;VALUE=DATE:20261011
DTSTAMP:20260421T005228
CREATED:20251215T001211Z
LAST-MODIFIED:20251215T001211Z
UID:10002165-1791590400-1791676799@www.iafflocal975.org
SUMMARY:B Shift
DESCRIPTION:
URL:https://www.iafflocal975.org/event/b-shift/2026-10-10/
CATEGORIES:B Shift
ATTACH;FMTTYPE=image/png:https://www.iafflocal975.org/wp-content/uploads/2021/09/icon-1.png
END:VEVENT
BEGIN:VEVENT
DTSTART;VALUE=DATE:20261013
DTEND;VALUE=DATE:20261014
DTSTAMP:20260421T005228
CREATED:20251215T001211Z
LAST-MODIFIED:20251215T001211Z
UID:10002166-1791849600-1791935999@www.iafflocal975.org
SUMMARY:B Shift
DESCRIPTION:
URL:https://www.iafflocal975.org/event/b-shift/2026-10-13/
CATEGORIES:B Shift
ATTACH;FMTTYPE=image/png:https://www.iafflocal975.org/wp-content/uploads/2021/09/icon-1.png
END:VEVENT
BEGIN:VEVENT
DTSTART;VALUE=DATE:20261016
DTEND;VALUE=DATE:20261017
DTSTAMP:20260421T005228
CREATED:20251215T001211Z
LAST-MODIFIED:20251215T001211Z
UID:10002167-1792108800-1792195199@www.iafflocal975.org
SUMMARY:B Shift
DESCRIPTION:
URL:https://www.iafflocal975.org/event/b-shift/2026-10-16/
CATEGORIES:B Shift
ATTACH;FMTTYPE=image/png:https://www.iafflocal975.org/wp-content/uploads/2021/09/icon-1.png
END:VEVENT
BEGIN:VEVENT
DTSTART;VALUE=DATE:20261019
DTEND;VALUE=DATE:20261020
DTSTAMP:20260421T005228
CREATED:20251215T001211Z
LAST-MODIFIED:20251215T001211Z
UID:10002168-1792368000-1792454399@www.iafflocal975.org
SUMMARY:B Shift
DESCRIPTION:
URL:https://www.iafflocal975.org/event/b-shift/2026-10-19/
CATEGORIES:B Shift
ATTACH;FMTTYPE=image/png:https://www.iafflocal975.org/wp-content/uploads/2021/09/icon-1.png
END:VEVENT
BEGIN:VEVENT
DTSTART;VALUE=DATE:20261022
DTEND;VALUE=DATE:20261023
DTSTAMP:20260421T005228
CREATED:20251215T001211Z
LAST-MODIFIED:20251215T001211Z
UID:10002169-1792627200-1792713599@www.iafflocal975.org
SUMMARY:B Shift
DESCRIPTION:
URL:https://www.iafflocal975.org/event/b-shift/2026-10-22/
CATEGORIES:B Shift
ATTACH;FMTTYPE=image/png:https://www.iafflocal975.org/wp-content/uploads/2021/09/icon-1.png
END:VEVENT
BEGIN:VEVENT
DTSTART;VALUE=DATE:20261025
DTEND;VALUE=DATE:20261026
DTSTAMP:20260421T005228
CREATED:20251215T001211Z
LAST-MODIFIED:20251215T001211Z
UID:10002170-1792886400-1792972799@www.iafflocal975.org
SUMMARY:B Shift
DESCRIPTION:
URL:https://www.iafflocal975.org/event/b-shift/2026-10-25/
CATEGORIES:B Shift
ATTACH;FMTTYPE=image/png:https://www.iafflocal975.org/wp-content/uploads/2021/09/icon-1.png
END:VEVENT
BEGIN:VEVENT
DTSTART;VALUE=DATE:20261028
DTEND;VALUE=DATE:20261029
DTSTAMP:20260421T005228
CREATED:20251215T001211Z
LAST-MODIFIED:20251215T001211Z
UID:10002171-1793145600-1793231999@www.iafflocal975.org
SUMMARY:B Shift
DESCRIPTION:
URL:https://www.iafflocal975.org/event/b-shift/2026-10-28/
CATEGORIES:B Shift
ATTACH;FMTTYPE=image/png:https://www.iafflocal975.org/wp-content/uploads/2021/09/icon-1.png
END:VEVENT
BEGIN:VEVENT
DTSTART;VALUE=DATE:20261031
DTEND;VALUE=DATE:20261101
DTSTAMP:20260421T005228
CREATED:20251215T001211Z
LAST-MODIFIED:20251215T001211Z
UID:10002172-1793404800-1793491199@www.iafflocal975.org
SUMMARY:B Shift
DESCRIPTION:
URL:https://www.iafflocal975.org/event/b-shift/2026-10-31/
CATEGORIES:B Shift
ATTACH;FMTTYPE=image/png:https://www.iafflocal975.org/wp-content/uploads/2021/09/icon-1.png
END:VEVENT
BEGIN:VEVENT
DTSTART;VALUE=DATE:20261103
DTEND;VALUE=DATE:20261104
DTSTAMP:20260421T005228
CREATED:20251215T001211Z
LAST-MODIFIED:20251215T001211Z
UID:10002173-1793664000-1793750399@www.iafflocal975.org
SUMMARY:B Shift
DESCRIPTION:
URL:https://www.iafflocal975.org/event/b-shift/2026-11-03/
CATEGORIES:B Shift
ATTACH;FMTTYPE=image/png:https://www.iafflocal975.org/wp-content/uploads/2021/09/icon-1.png
END:VEVENT
BEGIN:VEVENT
DTSTART;VALUE=DATE:20261106
DTEND;VALUE=DATE:20261107
DTSTAMP:20260421T005228
CREATED:20251215T001211Z
LAST-MODIFIED:20251215T001211Z
UID:10002174-1793923200-1794009599@www.iafflocal975.org
SUMMARY:B Shift
DESCRIPTION:
URL:https://www.iafflocal975.org/event/b-shift/2026-11-06/
CATEGORIES:B Shift
ATTACH;FMTTYPE=image/png:https://www.iafflocal975.org/wp-content/uploads/2021/09/icon-1.png
END:VEVENT
BEGIN:VEVENT
DTSTART;VALUE=DATE:20261109
DTEND;VALUE=DATE:20261110
DTSTAMP:20260421T005228
CREATED:20251215T001211Z
LAST-MODIFIED:20251215T001211Z
UID:10002175-1794182400-1794268799@www.iafflocal975.org
SUMMARY:B Shift
DESCRIPTION:
URL:https://www.iafflocal975.org/event/b-shift/2026-11-09/
CATEGORIES:B Shift
ATTACH;FMTTYPE=image/png:https://www.iafflocal975.org/wp-content/uploads/2021/09/icon-1.png
END:VEVENT
BEGIN:VEVENT
DTSTART;VALUE=DATE:20261112
DTEND;VALUE=DATE:20261113
DTSTAMP:20260421T005228
CREATED:20251215T001211Z
LAST-MODIFIED:20251215T001211Z
UID:10002176-1794441600-1794527999@www.iafflocal975.org
SUMMARY:B Shift
DESCRIPTION:
URL:https://www.iafflocal975.org/event/b-shift/2026-11-12/
CATEGORIES:B Shift
ATTACH;FMTTYPE=image/png:https://www.iafflocal975.org/wp-content/uploads/2021/09/icon-1.png
END:VEVENT
BEGIN:VEVENT
DTSTART;VALUE=DATE:20261115
DTEND;VALUE=DATE:20261116
DTSTAMP:20260421T005228
CREATED:20251215T001211Z
LAST-MODIFIED:20251215T001211Z
UID:10002177-1794700800-1794787199@www.iafflocal975.org
SUMMARY:B Shift
DESCRIPTION:
URL:https://www.iafflocal975.org/event/b-shift/2026-11-15/
CATEGORIES:B Shift
ATTACH;FMTTYPE=image/png:https://www.iafflocal975.org/wp-content/uploads/2021/09/icon-1.png
END:VEVENT
BEGIN:VEVENT
DTSTART;VALUE=DATE:20261118
DTEND;VALUE=DATE:20261119
DTSTAMP:20260421T005228
CREATED:20251215T001211Z
LAST-MODIFIED:20251215T001211Z
UID:10002178-1794960000-1795046399@www.iafflocal975.org
SUMMARY:B Shift
DESCRIPTION:
URL:https://www.iafflocal975.org/event/b-shift/2026-11-18/
CATEGORIES:B Shift
ATTACH;FMTTYPE=image/png:https://www.iafflocal975.org/wp-content/uploads/2021/09/icon-1.png
END:VEVENT
BEGIN:VEVENT
DTSTART;VALUE=DATE:20261121
DTEND;VALUE=DATE:20261122
DTSTAMP:20260421T005228
CREATED:20251215T001211Z
LAST-MODIFIED:20251215T001211Z
UID:10002179-1795219200-1795305599@www.iafflocal975.org
SUMMARY:B Shift
DESCRIPTION:
URL:https://www.iafflocal975.org/event/b-shift/2026-11-21/
CATEGORIES:B Shift
ATTACH;FMTTYPE=image/png:https://www.iafflocal975.org/wp-content/uploads/2021/09/icon-1.png
END:VEVENT
BEGIN:VEVENT
DTSTART;VALUE=DATE:20261124
DTEND;VALUE=DATE:20261125
DTSTAMP:20260421T005228
CREATED:20251215T001211Z
LAST-MODIFIED:20251215T001211Z
UID:10002180-1795478400-1795564799@www.iafflocal975.org
SUMMARY:B Shift
DESCRIPTION:
URL:https://www.iafflocal975.org/event/b-shift/2026-11-24/
CATEGORIES:B Shift
ATTACH;FMTTYPE=image/png:https://www.iafflocal975.org/wp-content/uploads/2021/09/icon-1.png
END:VEVENT
BEGIN:VEVENT
DTSTART;VALUE=DATE:20261127
DTEND;VALUE=DATE:20261128
DTSTAMP:20260421T005228
CREATED:20251215T001211Z
LAST-MODIFIED:20251215T001211Z
UID:10002181-1795737600-1795823999@www.iafflocal975.org
SUMMARY:B Shift
DESCRIPTION:
URL:https://www.iafflocal975.org/event/b-shift/2026-11-27/
CATEGORIES:B Shift
ATTACH;FMTTYPE=image/png:https://www.iafflocal975.org/wp-content/uploads/2021/09/icon-1.png
END:VEVENT
BEGIN:VEVENT
DTSTART;VALUE=DATE:20261130
DTEND;VALUE=DATE:20261201
DTSTAMP:20260421T005228
CREATED:20251215T001211Z
LAST-MODIFIED:20251215T001211Z
UID:10002182-1795996800-1796083199@www.iafflocal975.org
SUMMARY:B Shift
DESCRIPTION:
URL:https://www.iafflocal975.org/event/b-shift/2026-11-30/
CATEGORIES:B Shift
ATTACH;FMTTYPE=image/png:https://www.iafflocal975.org/wp-content/uploads/2021/09/icon-1.png
END:VEVENT
BEGIN:VEVENT
DTSTART;VALUE=DATE:20261203
DTEND;VALUE=DATE:20261204
DTSTAMP:20260421T005228
CREATED:20251215T001211Z
LAST-MODIFIED:20251215T001211Z
UID:10002183-1796256000-1796342399@www.iafflocal975.org
SUMMARY:B Shift
DESCRIPTION:
URL:https://www.iafflocal975.org/event/b-shift/2026-12-03/
CATEGORIES:B Shift
ATTACH;FMTTYPE=image/png:https://www.iafflocal975.org/wp-content/uploads/2021/09/icon-1.png
END:VEVENT
BEGIN:VEVENT
DTSTART;VALUE=DATE:20261206
DTEND;VALUE=DATE:20261207
DTSTAMP:20260421T005228
CREATED:20251215T001211Z
LAST-MODIFIED:20251215T001211Z
UID:10002184-1796515200-1796601599@www.iafflocal975.org
SUMMARY:B Shift
DESCRIPTION:
URL:https://www.iafflocal975.org/event/b-shift/2026-12-06/
CATEGORIES:B Shift
ATTACH;FMTTYPE=image/png:https://www.iafflocal975.org/wp-content/uploads/2021/09/icon-1.png
END:VEVENT
BEGIN:VEVENT
DTSTART;VALUE=DATE:20261209
DTEND;VALUE=DATE:20261210
DTSTAMP:20260421T005228
CREATED:20251215T001211Z
LAST-MODIFIED:20251215T001211Z
UID:10002185-1796774400-1796860799@www.iafflocal975.org
SUMMARY:B Shift
DESCRIPTION:
URL:https://www.iafflocal975.org/event/b-shift/2026-12-09/
CATEGORIES:B Shift
ATTACH;FMTTYPE=image/png:https://www.iafflocal975.org/wp-content/uploads/2021/09/icon-1.png
END:VEVENT
END:VCALENDAR