BEGIN:VCALENDAR
VERSION:2.0
PRODID:-//Austin Firefighters Association - ECPv6.15.20//NONSGML v1.0//EN
CALSCALE:GREGORIAN
METHOD:PUBLISH
X-ORIGINAL-URL:https://www.iafflocal975.org
X-WR-CALDESC:Events for Austin Firefighters Association
REFRESH-INTERVAL;VALUE=DURATION:PT1H
X-Robots-Tag:noindex
X-PUBLISHED-TTL:PT1H
BEGIN:VTIMEZONE
TZID:America/Chicago
BEGIN:DAYLIGHT
TZOFFSETFROM:-0600
TZOFFSETTO:-0500
TZNAME:CDT
DTSTART:20250309T080000
END:DAYLIGHT
BEGIN:STANDARD
TZOFFSETFROM:-0500
TZOFFSETTO:-0600
TZNAME:CST
DTSTART:20251102T070000
END:STANDARD
BEGIN:DAYLIGHT
TZOFFSETFROM:-0600
TZOFFSETTO:-0500
TZNAME:CDT
DTSTART:20260308T080000
END:DAYLIGHT
BEGIN:STANDARD
TZOFFSETFROM:-0500
TZOFFSETTO:-0600
TZNAME:CST
DTSTART:20261101T070000
END:STANDARD
BEGIN:DAYLIGHT
TZOFFSETFROM:-0600
TZOFFSETTO:-0500
TZNAME:CDT
DTSTART:20270314T080000
END:DAYLIGHT
BEGIN:STANDARD
TZOFFSETFROM:-0500
TZOFFSETTO:-0600
TZNAME:CST
DTSTART:20271107T070000
END:STANDARD
END:VTIMEZONE
BEGIN:VEVENT
DTSTART;VALUE=DATE:20261107
DTEND;VALUE=DATE:20261108
DTSTAMP:20260419T191916
CREATED:20251215T001313Z
LAST-MODIFIED:20251215T001313Z
UID:10002828-1794009600-1794095999@www.iafflocal975.org
SUMMARY:C Shift
DESCRIPTION:
URL:https://www.iafflocal975.org/event/c-shift/2026-11-07/
CATEGORIES:C Shift
ATTACH;FMTTYPE=image/png:https://www.iafflocal975.org/wp-content/uploads/2021/09/icon-1.png
END:VEVENT
BEGIN:VEVENT
DTSTART;VALUE=DATE:20261108
DTEND;VALUE=DATE:20261109
DTSTAMP:20260419T191916
CREATED:20251215T001405Z
LAST-MODIFIED:20251215T001405Z
UID:10003482-1794096000-1794182399@www.iafflocal975.org
SUMMARY:A Shift
DESCRIPTION:
URL:https://www.iafflocal975.org/event/a-shift/2026-11-08/
CATEGORIES:A Shift
ATTACH;FMTTYPE=image/png:https://www.iafflocal975.org/wp-content/uploads/2021/09/icon-1.png
END:VEVENT
BEGIN:VEVENT
DTSTART;VALUE=DATE:20261109
DTEND;VALUE=DATE:20261110
DTSTAMP:20260419T191916
CREATED:20251215T001211Z
LAST-MODIFIED:20251215T001211Z
UID:10002175-1794182400-1794268799@www.iafflocal975.org
SUMMARY:B Shift
DESCRIPTION:
URL:https://www.iafflocal975.org/event/b-shift/2026-11-09/
CATEGORIES:B Shift
ATTACH;FMTTYPE=image/png:https://www.iafflocal975.org/wp-content/uploads/2021/09/icon-1.png
END:VEVENT
BEGIN:VEVENT
DTSTART;VALUE=DATE:20261110
DTEND;VALUE=DATE:20261111
DTSTAMP:20260419T191916
CREATED:20251215T001313Z
LAST-MODIFIED:20251215T001313Z
UID:10002829-1794268800-1794355199@www.iafflocal975.org
SUMMARY:C Shift
DESCRIPTION:
URL:https://www.iafflocal975.org/event/c-shift/2026-11-10/
CATEGORIES:C Shift
ATTACH;FMTTYPE=image/png:https://www.iafflocal975.org/wp-content/uploads/2021/09/icon-1.png
END:VEVENT
BEGIN:VEVENT
DTSTART;TZID=America/Chicago:20261110T130000
DTEND;TZID=America/Chicago:20261110T130000
DTSTAMP:20260419T191916
CREATED:20251215T000942Z
LAST-MODIFIED:20251215T001003Z
UID:10001970-1794315600-1794315600@www.iafflocal975.org
SUMMARY:Membership Meeting
DESCRIPTION:Membership Meeting
URL:https://www.iafflocal975.org/event/membership-meeting/2026-11-10/
CATEGORIES:Union Meeting
ATTACH;FMTTYPE=image/png:https://www.iafflocal975.org/wp-content/uploads/2021/09/icon-1.png
END:VEVENT
BEGIN:VEVENT
DTSTART;VALUE=DATE:20261111
DTEND;VALUE=DATE:20261112
DTSTAMP:20260419T191916
CREATED:20251215T001405Z
LAST-MODIFIED:20251215T001405Z
UID:10003483-1794355200-1794441599@www.iafflocal975.org
SUMMARY:A Shift
DESCRIPTION:
URL:https://www.iafflocal975.org/event/a-shift/2026-11-11/
CATEGORIES:A Shift
ATTACH;FMTTYPE=image/png:https://www.iafflocal975.org/wp-content/uploads/2021/09/icon-1.png
END:VEVENT
BEGIN:VEVENT
DTSTART;VALUE=DATE:20261112
DTEND;VALUE=DATE:20261113
DTSTAMP:20260419T191916
CREATED:20251215T001211Z
LAST-MODIFIED:20251215T001211Z
UID:10002176-1794441600-1794527999@www.iafflocal975.org
SUMMARY:B Shift
DESCRIPTION:
URL:https://www.iafflocal975.org/event/b-shift/2026-11-12/
CATEGORIES:B Shift
ATTACH;FMTTYPE=image/png:https://www.iafflocal975.org/wp-content/uploads/2021/09/icon-1.png
END:VEVENT
BEGIN:VEVENT
DTSTART;VALUE=DATE:20261113
DTEND;VALUE=DATE:20261114
DTSTAMP:20260419T191916
CREATED:20251215T001313Z
LAST-MODIFIED:20251215T001313Z
UID:10002830-1794528000-1794614399@www.iafflocal975.org
SUMMARY:C Shift
DESCRIPTION:
URL:https://www.iafflocal975.org/event/c-shift/2026-11-13/
CATEGORIES:C Shift
ATTACH;FMTTYPE=image/png:https://www.iafflocal975.org/wp-content/uploads/2021/09/icon-1.png
END:VEVENT
BEGIN:VEVENT
DTSTART;VALUE=DATE:20261114
DTEND;VALUE=DATE:20261115
DTSTAMP:20260419T191916
CREATED:20251215T001405Z
LAST-MODIFIED:20251215T001405Z
UID:10003484-1794614400-1794700799@www.iafflocal975.org
SUMMARY:A Shift
DESCRIPTION:
URL:https://www.iafflocal975.org/event/a-shift/2026-11-14/
CATEGORIES:A Shift
ATTACH;FMTTYPE=image/png:https://www.iafflocal975.org/wp-content/uploads/2021/09/icon-1.png
END:VEVENT
BEGIN:VEVENT
DTSTART;VALUE=DATE:20261115
DTEND;VALUE=DATE:20261116
DTSTAMP:20260419T191916
CREATED:20251215T001211Z
LAST-MODIFIED:20251215T001211Z
UID:10002177-1794700800-1794787199@www.iafflocal975.org
SUMMARY:B Shift
DESCRIPTION:
URL:https://www.iafflocal975.org/event/b-shift/2026-11-15/
CATEGORIES:B Shift
ATTACH;FMTTYPE=image/png:https://www.iafflocal975.org/wp-content/uploads/2021/09/icon-1.png
END:VEVENT
BEGIN:VEVENT
DTSTART;VALUE=DATE:20261116
DTEND;VALUE=DATE:20261117
DTSTAMP:20260419T191916
CREATED:20251215T001313Z
LAST-MODIFIED:20251215T001313Z
UID:10002831-1794787200-1794873599@www.iafflocal975.org
SUMMARY:C Shift
DESCRIPTION:
URL:https://www.iafflocal975.org/event/c-shift/2026-11-16/
CATEGORIES:C Shift
ATTACH;FMTTYPE=image/png:https://www.iafflocal975.org/wp-content/uploads/2021/09/icon-1.png
END:VEVENT
BEGIN:VEVENT
DTSTART;VALUE=DATE:20261117
DTEND;VALUE=DATE:20261118
DTSTAMP:20260419T191916
CREATED:20251215T001405Z
LAST-MODIFIED:20251215T001405Z
UID:10003485-1794873600-1794959999@www.iafflocal975.org
SUMMARY:A Shift
DESCRIPTION:
URL:https://www.iafflocal975.org/event/a-shift/2026-11-17/
CATEGORIES:A Shift
ATTACH;FMTTYPE=image/png:https://www.iafflocal975.org/wp-content/uploads/2021/09/icon-1.png
END:VEVENT
BEGIN:VEVENT
DTSTART;VALUE=DATE:20261118
DTEND;VALUE=DATE:20261119
DTSTAMP:20260419T191916
CREATED:20251215T001211Z
LAST-MODIFIED:20251215T001211Z
UID:10002178-1794960000-1795046399@www.iafflocal975.org
SUMMARY:B Shift
DESCRIPTION:
URL:https://www.iafflocal975.org/event/b-shift/2026-11-18/
CATEGORIES:B Shift
ATTACH;FMTTYPE=image/png:https://www.iafflocal975.org/wp-content/uploads/2021/09/icon-1.png
END:VEVENT
BEGIN:VEVENT
DTSTART;VALUE=DATE:20261119
DTEND;VALUE=DATE:20261120
DTSTAMP:20260419T191916
CREATED:20251215T001313Z
LAST-MODIFIED:20251215T001313Z
UID:10002832-1795046400-1795132799@www.iafflocal975.org
SUMMARY:C Shift
DESCRIPTION:
URL:https://www.iafflocal975.org/event/c-shift/2026-11-19/
CATEGORIES:C Shift
ATTACH;FMTTYPE=image/png:https://www.iafflocal975.org/wp-content/uploads/2021/09/icon-1.png
END:VEVENT
BEGIN:VEVENT
DTSTART;VALUE=DATE:20261120
DTEND;VALUE=DATE:20261121
DTSTAMP:20260419T191916
CREATED:20251215T001405Z
LAST-MODIFIED:20251215T001405Z
UID:10003486-1795132800-1795219199@www.iafflocal975.org
SUMMARY:A Shift
DESCRIPTION:
URL:https://www.iafflocal975.org/event/a-shift/2026-11-20/
CATEGORIES:A Shift
ATTACH;FMTTYPE=image/png:https://www.iafflocal975.org/wp-content/uploads/2021/09/icon-1.png
END:VEVENT
BEGIN:VEVENT
DTSTART;VALUE=DATE:20261121
DTEND;VALUE=DATE:20261122
DTSTAMP:20260419T191916
CREATED:20251215T001211Z
LAST-MODIFIED:20251215T001211Z
UID:10002179-1795219200-1795305599@www.iafflocal975.org
SUMMARY:B Shift
DESCRIPTION:
URL:https://www.iafflocal975.org/event/b-shift/2026-11-21/
CATEGORIES:B Shift
ATTACH;FMTTYPE=image/png:https://www.iafflocal975.org/wp-content/uploads/2021/09/icon-1.png
END:VEVENT
BEGIN:VEVENT
DTSTART;VALUE=DATE:20261122
DTEND;VALUE=DATE:20261123
DTSTAMP:20260419T191916
CREATED:20251215T001313Z
LAST-MODIFIED:20251215T001313Z
UID:10002833-1795305600-1795391999@www.iafflocal975.org
SUMMARY:C Shift
DESCRIPTION:
URL:https://www.iafflocal975.org/event/c-shift/2026-11-22/
CATEGORIES:C Shift
ATTACH;FMTTYPE=image/png:https://www.iafflocal975.org/wp-content/uploads/2021/09/icon-1.png
END:VEVENT
BEGIN:VEVENT
DTSTART;VALUE=DATE:20261123
DTEND;VALUE=DATE:20261124
DTSTAMP:20260419T191916
CREATED:20251215T001405Z
LAST-MODIFIED:20251215T001405Z
UID:10003487-1795392000-1795478399@www.iafflocal975.org
SUMMARY:A Shift
DESCRIPTION:
URL:https://www.iafflocal975.org/event/a-shift/2026-11-23/
CATEGORIES:A Shift
ATTACH;FMTTYPE=image/png:https://www.iafflocal975.org/wp-content/uploads/2021/09/icon-1.png
END:VEVENT
BEGIN:VEVENT
DTSTART;VALUE=DATE:20261124
DTEND;VALUE=DATE:20261125
DTSTAMP:20260419T191916
CREATED:20251215T001211Z
LAST-MODIFIED:20251215T001211Z
UID:10002180-1795478400-1795564799@www.iafflocal975.org
SUMMARY:B Shift
DESCRIPTION:
URL:https://www.iafflocal975.org/event/b-shift/2026-11-24/
CATEGORIES:B Shift
ATTACH;FMTTYPE=image/png:https://www.iafflocal975.org/wp-content/uploads/2021/09/icon-1.png
END:VEVENT
BEGIN:VEVENT
DTSTART;VALUE=DATE:20261125
DTEND;VALUE=DATE:20261126
DTSTAMP:20260419T191916
CREATED:20251215T001313Z
LAST-MODIFIED:20251215T001313Z
UID:10002834-1795564800-1795651199@www.iafflocal975.org
SUMMARY:C Shift
DESCRIPTION:
URL:https://www.iafflocal975.org/event/c-shift/2026-11-25/
CATEGORIES:C Shift
ATTACH;FMTTYPE=image/png:https://www.iafflocal975.org/wp-content/uploads/2021/09/icon-1.png
END:VEVENT
BEGIN:VEVENT
DTSTART;VALUE=DATE:20261126
DTEND;VALUE=DATE:20261127
DTSTAMP:20260419T191916
CREATED:20251215T001405Z
LAST-MODIFIED:20251215T001405Z
UID:10003488-1795651200-1795737599@www.iafflocal975.org
SUMMARY:A Shift
DESCRIPTION:
URL:https://www.iafflocal975.org/event/a-shift/2026-11-26/
CATEGORIES:A Shift
ATTACH;FMTTYPE=image/png:https://www.iafflocal975.org/wp-content/uploads/2021/09/icon-1.png
END:VEVENT
BEGIN:VEVENT
DTSTART;VALUE=DATE:20261127
DTEND;VALUE=DATE:20261128
DTSTAMP:20260419T191916
CREATED:20251215T001211Z
LAST-MODIFIED:20251215T001211Z
UID:10002181-1795737600-1795823999@www.iafflocal975.org
SUMMARY:B Shift
DESCRIPTION:
URL:https://www.iafflocal975.org/event/b-shift/2026-11-27/
CATEGORIES:B Shift
ATTACH;FMTTYPE=image/png:https://www.iafflocal975.org/wp-content/uploads/2021/09/icon-1.png
END:VEVENT
BEGIN:VEVENT
DTSTART;VALUE=DATE:20261128
DTEND;VALUE=DATE:20261129
DTSTAMP:20260419T191916
CREATED:20251215T001313Z
LAST-MODIFIED:20251215T001313Z
UID:10002835-1795824000-1795910399@www.iafflocal975.org
SUMMARY:C Shift
DESCRIPTION:
URL:https://www.iafflocal975.org/event/c-shift/2026-11-28/
CATEGORIES:C Shift
ATTACH;FMTTYPE=image/png:https://www.iafflocal975.org/wp-content/uploads/2021/09/icon-1.png
END:VEVENT
BEGIN:VEVENT
DTSTART;VALUE=DATE:20261129
DTEND;VALUE=DATE:20261130
DTSTAMP:20260419T191916
CREATED:20251215T001405Z
LAST-MODIFIED:20251215T001405Z
UID:10003489-1795910400-1795996799@www.iafflocal975.org
SUMMARY:A Shift
DESCRIPTION:
URL:https://www.iafflocal975.org/event/a-shift/2026-11-29/
CATEGORIES:A Shift
ATTACH;FMTTYPE=image/png:https://www.iafflocal975.org/wp-content/uploads/2021/09/icon-1.png
END:VEVENT
BEGIN:VEVENT
DTSTART;VALUE=DATE:20261130
DTEND;VALUE=DATE:20261201
DTSTAMP:20260419T191916
CREATED:20251215T001211Z
LAST-MODIFIED:20251215T001211Z
UID:10002182-1795996800-1796083199@www.iafflocal975.org
SUMMARY:B Shift
DESCRIPTION:
URL:https://www.iafflocal975.org/event/b-shift/2026-11-30/
CATEGORIES:B Shift
ATTACH;FMTTYPE=image/png:https://www.iafflocal975.org/wp-content/uploads/2021/09/icon-1.png
END:VEVENT
BEGIN:VEVENT
DTSTART;VALUE=DATE:20261201
DTEND;VALUE=DATE:20261202
DTSTAMP:20260419T191916
CREATED:20251215T001313Z
LAST-MODIFIED:20251215T001313Z
UID:10002836-1796083200-1796169599@www.iafflocal975.org
SUMMARY:C Shift
DESCRIPTION:
URL:https://www.iafflocal975.org/event/c-shift/2026-12-01/
CATEGORIES:C Shift
ATTACH;FMTTYPE=image/png:https://www.iafflocal975.org/wp-content/uploads/2021/09/icon-1.png
END:VEVENT
BEGIN:VEVENT
DTSTART;VALUE=DATE:20261202
DTEND;VALUE=DATE:20261203
DTSTAMP:20260419T191916
CREATED:20251215T001405Z
LAST-MODIFIED:20251215T001405Z
UID:10003490-1796169600-1796255999@www.iafflocal975.org
SUMMARY:A Shift
DESCRIPTION:
URL:https://www.iafflocal975.org/event/a-shift/2026-12-02/
CATEGORIES:A Shift
ATTACH;FMTTYPE=image/png:https://www.iafflocal975.org/wp-content/uploads/2021/09/icon-1.png
END:VEVENT
BEGIN:VEVENT
DTSTART;VALUE=DATE:20261203
DTEND;VALUE=DATE:20261204
DTSTAMP:20260419T191916
CREATED:20251215T001211Z
LAST-MODIFIED:20251215T001211Z
UID:10002183-1796256000-1796342399@www.iafflocal975.org
SUMMARY:B Shift
DESCRIPTION:
URL:https://www.iafflocal975.org/event/b-shift/2026-12-03/
CATEGORIES:B Shift
ATTACH;FMTTYPE=image/png:https://www.iafflocal975.org/wp-content/uploads/2021/09/icon-1.png
END:VEVENT
BEGIN:VEVENT
DTSTART;VALUE=DATE:20261204
DTEND;VALUE=DATE:20261205
DTSTAMP:20260419T191916
CREATED:20251215T001313Z
LAST-MODIFIED:20251215T001313Z
UID:10002837-1796342400-1796428799@www.iafflocal975.org
SUMMARY:C Shift
DESCRIPTION:
URL:https://www.iafflocal975.org/event/c-shift/2026-12-04/
CATEGORIES:C Shift
ATTACH;FMTTYPE=image/png:https://www.iafflocal975.org/wp-content/uploads/2021/09/icon-1.png
END:VEVENT
BEGIN:VEVENT
DTSTART;VALUE=DATE:20261205
DTEND;VALUE=DATE:20261206
DTSTAMP:20260419T191916
CREATED:20251215T001405Z
LAST-MODIFIED:20251215T001405Z
UID:10003491-1796428800-1796515199@www.iafflocal975.org
SUMMARY:A Shift
DESCRIPTION:
URL:https://www.iafflocal975.org/event/a-shift/2026-12-05/
CATEGORIES:A Shift
ATTACH;FMTTYPE=image/png:https://www.iafflocal975.org/wp-content/uploads/2021/09/icon-1.png
END:VEVENT
END:VCALENDAR